{"text_format":"1","workbook":"xlsx","n_sheets":3,"sheets":["zużyte","ZUŻYTE WERSJA ROBOCZA","Arkusz1"],"not_rendered":{"charts":0,"images":0,"macros":1,"external_links":0,"defined_names":2,"comments":0,"pivot_tables":0},"unopened":[],"bounds":{"document_bytes":16777216,"sheet_cells":100000,"rows_first":2000,"rows_last":500,"rows_between":2000,"halvings":0,"cell_chars":16384,"cell_head_chars":4096},"cells_cut":0,"cells_raw":0,"read":"whole","date_system":"1900"}

{"sheet":"zużyte","index":0,"n_rows":186,"n_cols":5,"rows_kept":186,"cut":false,"hidden":false,"merged":[[7,1,7,4],[8,1,8,7],[9,1,9,7],[1,1,1,7],[5,1,5,3]]}
[]
[null,"\n"]
["Z A T W I E R D Z A M"]
["L.dz. SzP-28075/21"]
["Zał. nr 1"]
[]
[]
[null,"WYKAZ ZUŻYTYCH SKŁADNIKÓW RZECZOWYCH MAJĄTKU RUCHOMEGO SZKOŁY POLICJI \nW KATOWICACH PRZEZNACZONYCH DO SPRZEDAŻY"]
[]
[]
[]
[null,"L.p","Nazwa sprzętu (urządzenia)","Ilość","Cena jednostkowa PLN"]
[null,"1",{"$f":"'ZUŻYTE WERSJA ROBOCZA'!B660","v":"PODUSZKA DAKTYLOSKOPIJNA"},{"$f":"'ZUŻYTE WERSJA ROBOCZA'!C660","v":12},{"$f":"'ZUŻYTE WERSJA ROBOCZA'!D660","v":20}]
[null,"2",{"$f":"'ZUŻYTE WERSJA ROBOCZA'!B661","v":"LUPA DAKTYLOSKOPIJNA"},{"$f":"'ZUŻYTE WERSJA ROBOCZA'!C661","v":1},{"$f":"'ZUŻYTE WERSJA ROBOCZA'!D661","v":3}]
[null,"3",{"$f":"'ZUŻYTE WERSJA ROBOCZA'!B662","v":"ALKOMAT LION ALCOBLOW Z POKROWCEM"},{"$f":"'ZUŻYTE WERSJA ROBOCZA'!C662","v":1},{"$f":"'ZUŻYTE WERSJA ROBOCZA'!D662","v":200}]
[null,"4",{"$f":"'ZUŻYTE WERSJA ROBOCZA'!B663","v":"ALKOMETR SD 400 LION Z WYPOSAŻENIEM"},{"$f":"'ZUŻYTE WERSJA ROBOCZA'!C663","v":2},{"$f":"'ZUŻYTE WERSJA ROBOCZA'!D663","v":450}]
[null,"5",{"$f":"'ZUŻYTE WERSJA ROBOCZA'!B664","v":"APARAT CYFROWY CANON EOS 400D Z OB. EF 18-55(PAM. CF-43B, STATYW W FUTERALE, FUTERAŁ)"},{"$f":"'ZUŻYTE WERSJA ROBOCZA'!C664","v":1},{"$f":"'ZUŻYTE WERSJA ROBOCZA'!D664","v":500}]
[null,"6",{"$f":"'ZUŻYTE WERSJA ROBOCZA'!B665","v":"APARAT FOROGRAFICZNY OLYMPUS C-300 20MM- CYFROWY"},{"$f":"'ZUŻYTE WERSJA ROBOCZA'!C665","v":1},{"$f":"'ZUŻYTE WERSJA ROBOCZA'!D665","v":350}]
[null,"7",{"$f":"'ZUŻYTE WERSJA ROBOCZA'!B666","v":"LAMPA BŁYSKOWA CANON 220EX"},{"$f":"'ZUŻYTE WERSJA ROBOCZA'!C666","v":1},{"$f":"'ZUŻYTE WERSJA ROBOCZA'!D666","v":150}]
[null,"8",{"$f":"'ZUŻYTE WERSJA ROBOCZA'!B667","v":"KALKULATOR CITIZEN SDC 888"},{"$f":"'ZUŻYTE WERSJA ROBOCZA'!C667","v":1},{"$f":"'ZUŻYTE WERSJA ROBOCZA'!D667","v":15}]
[null,"9",{"$f":"'ZUŻYTE WERSJA ROBOCZA'!B668","v":"KALKULATOR CITIZEN 123A"},{"$f":"'ZUŻYTE WERSJA ROBOCZA'!C668","v":1},{"$f":"'ZUŻYTE WERSJA ROBOCZA'!D668","v":60}]
[null,"10",{"$f":"'ZUŻYTE WERSJA ROBOCZA'!B669","v":"KSEROKOPIARKA RICOH FT 3513"},{"$f":"'ZUŻYTE WERSJA ROBOCZA'!C669","v":1},{"$f":"'ZUŻYTE WERSJA ROBOCZA'!D669","v":140}]
[null,"11",{"$f":"'ZUŻYTE WERSJA ROBOCZA'!B670","v":"KSEROKOPIARKA RICOH MP1500"},{"$f":"'ZUŻYTE WERSJA ROBOCZA'!C670","v":1},{"$f":"'ZUŻYTE WERSJA ROBOCZA'!D670","v":1000}]
[null,"12",{"$f":"'ZUŻYTE WERSJA ROBOCZA'!B671","v":"NISZCZARKA DOKUMENTÓW FELLOWES 480"},{"$f":"'ZUŻYTE WERSJA ROBOCZA'!C671","v":1},{"$f":"'ZUŻYTE WERSJA ROBOCZA'!D671","v":1500}]
[null,"13",{"$f":"'ZUŻYTE WERSJA ROBOCZA'!B672","v":"PAPIER DO FAXU 210X100"},{"$f":"'ZUŻYTE WERSJA ROBOCZA'!C672","v":40},{"$f":"'ZUŻYTE WERSJA ROBOCZA'!D672","v":4}]
[null,"14",{"$f":"'ZUŻYTE WERSJA ROBOCZA'!B673","v":"GAŚNICA PROSZKOWA"},{"$f":"'ZUŻYTE WERSJA ROBOCZA'!C673","v":51},{"$f":"'ZUŻYTE WERSJA ROBOCZA'!D673","v":14}]
[null,"15",{"$f":"'ZUŻYTE WERSJA ROBOCZA'!B674","v":"GAŚNICA PROSZKOWA"},{"$f":"'ZUŻYTE WERSJA ROBOCZA'!C674","v":1},{"$f":"'ZUŻYTE WERSJA ROBOCZA'!D674","v":13}]
[null,"16",{"$f":"'ZUŻYTE WERSJA ROBOCZA'!B675","v":"BLUZA KUCHARSKA"},{"$f":"'ZUŻYTE WERSJA ROBOCZA'!C675","v":1},{"$f":"'ZUŻYTE WERSJA ROBOCZA'!D675","v":5}]
[null,"17",{"$f":"'ZUŻYTE WERSJA ROBOCZA'!B676","v":"BLUZA POLAROWA"},{"$f":"'ZUŻYTE WERSJA ROBOCZA'!C676","v":1},{"$f":"'ZUŻYTE WERSJA ROBOCZA'!D676","v":10}]
[null,"18",{"$f":"'ZUŻYTE WERSJA ROBOCZA'!B677","v":"CZAPKA ROBOCZA"},{"$f":"'ZUŻYTE WERSJA ROBOCZA'!C677","v":1},{"$f":"'ZUŻYTE WERSJA ROBOCZA'!D677","v":1.5}]
[null,"19",{"$f":"'ZUŻYTE WERSJA ROBOCZA'!B678","v":"CZEPEK"},{"$f":"'ZUŻYTE WERSJA ROBOCZA'!C678","v":2},{"$f":"'ZUŻYTE WERSJA ROBOCZA'!D678","v":1}]
[null,"20",{"$f":"'ZUŻYTE WERSJA ROBOCZA'!B679","v":"FARTUCH 3/4 KOLOR"},{"$f":"'ZUŻYTE WERSJA ROBOCZA'!C679","v":1},{"$f":"'ZUŻYTE WERSJA ROBOCZA'!D679","v":5}]
[null,"21",{"$f":"'ZUŻYTE WERSJA ROBOCZA'!B680","v":"FARTUCH GUMOWY"},{"$f":"'ZUŻYTE WERSJA ROBOCZA'!C680","v":1},{"$f":"'ZUŻYTE WERSJA ROBOCZA'!D680","v":2.5}]
[null,"22",{"$f":"'ZUŻYTE WERSJA ROBOCZA'!B681","v":"GUMOWCE BIAŁE"},{"$f":"'ZUŻYTE WERSJA ROBOCZA'!C681","v":1},{"$f":"'ZUŻYTE WERSJA ROBOCZA'!D681","v":5}]
[null,"23",{"$f":"'ZUŻYTE WERSJA ROBOCZA'!B682","v":"KAMIZELKA OSTRZEGAWCZA"},{"$f":"'ZUŻYTE WERSJA ROBOCZA'!C682","v":1},{"$f":"'ZUŻYTE WERSJA ROBOCZA'!D682","v":5}]
[null,"24",{"$f":"'ZUŻYTE WERSJA ROBOCZA'!B683","v":"KOŁDRA"},{"$f":"'ZUŻYTE WERSJA ROBOCZA'!C683","v":4},{"$f":"'ZUŻYTE WERSJA ROBOCZA'!D683","v":8}]
[null,"25",{"$f":"'ZUŻYTE WERSJA ROBOCZA'!B684","v":"KOMBINEZON DWUCZĘŚCIOWY"},{"$f":"'ZUŻYTE WERSJA ROBOCZA'!C684","v":1},{"$f":"'ZUŻYTE WERSJA ROBOCZA'!D684","v":35}]
[null,"26",{"$f":"'ZUŻYTE WERSJA ROBOCZA'!B685","v":"KOSZULA FLANELOWA"},{"$f":"'ZUŻYTE WERSJA ROBOCZA'!C685","v":2},{"$f":"'ZUŻYTE WERSJA ROBOCZA'!D685","v":5}]
[null,"27",{"$f":"'ZUŻYTE WERSJA ROBOCZA'!B686","v":"KOSZULKA SPORTOWA CZERWONA"},{"$f":"'ZUŻYTE WERSJA ROBOCZA'!C686","v":4},{"$f":"'ZUŻYTE WERSJA ROBOCZA'!D686","v":5}]
[null,"28",{"$f":"'ZUŻYTE WERSJA ROBOCZA'!B687","v":"OKULARY OCHRONNE"},{"$f":"'ZUŻYTE WERSJA ROBOCZA'!C687","v":22},{"$f":"'ZUŻYTE WERSJA ROBOCZA'!D687","v":3}]
[null,"29",{"$f":"'ZUŻYTE WERSJA ROBOCZA'!B688","v":"OKULARY OCHRONNE PELTOR"},{"$f":"'ZUŻYTE WERSJA ROBOCZA'!C688","v":3},{"$f":"'ZUŻYTE WERSJA ROBOCZA'!D688","v":3.5}]
[null,"30",{"$f":"'ZUŻYTE WERSJA ROBOCZA'!B689","v":"OKULARY PRZECIWSŁONECZNE"},{"$f":"'ZUŻYTE WERSJA ROBOCZA'!C689","v":2},{"$f":"'ZUŻYTE WERSJA ROBOCZA'!D689","v":10}]
[null,"31",{"$f":"'ZUŻYTE WERSJA ROBOCZA'!B690","v":"POSZEWKA NA PODGŁÓWEK"},{"$f":"'ZUŻYTE WERSJA ROBOCZA'!C690","v":28},{"$f":"'ZUŻYTE WERSJA ROBOCZA'!D690","v":0.5}]
[null,"32",{"$f":"'ZUŻYTE WERSJA ROBOCZA'!B691","v":"POSZEWKA NA PODUSZKĘ"},{"$f":"'ZUŻYTE WERSJA ROBOCZA'!C691","v":252},{"$f":"'ZUŻYTE WERSJA ROBOCZA'!D691","v":1}]
[null,"33",{"$f":"'ZUŻYTE WERSJA ROBOCZA'!B692","v":"POSZWA  NA  KOC"},{"$f":"'ZUŻYTE WERSJA ROBOCZA'!C692","v":228},{"$f":"'ZUŻYTE WERSJA ROBOCZA'!D692","v":5}]
[null,"34",{"$f":"'ZUŻYTE WERSJA ROBOCZA'!B693","v":"PRZEŚCIERADŁO"},{"$f":"'ZUŻYTE WERSJA ROBOCZA'!C693","v":295},{"$f":"'ZUŻYTE WERSJA ROBOCZA'!D693","v":2.5}]
[null,"35",{"$f":"'ZUŻYTE WERSJA ROBOCZA'!B694","v":"RĘCZNIK BAWEŁNIANY"},{"$f":"'ZUŻYTE WERSJA ROBOCZA'!C694","v":6},{"$f":"'ZUŻYTE WERSJA ROBOCZA'!D694","v":0.5}]
[null,"36",{"$f":"'ZUŻYTE WERSJA ROBOCZA'!B695","v":"RĘCZNIK FROTTE"},{"$f":"'ZUŻYTE WERSJA ROBOCZA'!C695","v":55},{"$f":"'ZUŻYTE WERSJA ROBOCZA'!D695","v":1}]
[null,"37",{"$f":"'ZUŻYTE WERSJA ROBOCZA'!B696","v":"RĘCZNIK KĄPIELOWY FROTTE"},{"$f":"'ZUŻYTE WERSJA ROBOCZA'!C696","v":4},{"$f":"'ZUŻYTE WERSJA ROBOCZA'!D696","v":1.5}]
[null,"38",{"$f":"'ZUŻYTE WERSJA ROBOCZA'!B697","v":"RĘKAWICE GUMOWE GOSPODARCZE"},{"$f":"'ZUŻYTE WERSJA ROBOCZA'!C697","v":7},{"$f":"'ZUŻYTE WERSJA ROBOCZA'!D697","v":0.5}]
[null,"39",{"$f":"'ZUŻYTE WERSJA ROBOCZA'!B698","v":"SŁUCHAWKI PELTOR"},{"$f":"'ZUŻYTE WERSJA ROBOCZA'!C698","v":6},{"$f":"'ZUŻYTE WERSJA ROBOCZA'!D698","v":12}]
[null,"40",{"$f":"'ZUŻYTE WERSJA ROBOCZA'!B699","v":"SPODNIE BIAŁE"},{"$f":"'ZUŻYTE WERSJA ROBOCZA'!C699","v":5},{"$f":"'ZUŻYTE WERSJA ROBOCZA'!D699","v":3.5}]
[null,"41",{"$f":"'ZUŻYTE WERSJA ROBOCZA'!B700","v":"SPODNIE DRESOWE"},{"$f":"'ZUŻYTE WERSJA ROBOCZA'!C700","v":2},{"$f":"'ZUŻYTE WERSJA ROBOCZA'!D700","v":3.5}]
[null,"42",{"$f":"'ZUŻYTE WERSJA ROBOCZA'!B701","v":"SPODNIE ROBOCZE"},{"$f":"'ZUŻYTE WERSJA ROBOCZA'!C701","v":2},{"$f":"'ZUŻYTE WERSJA ROBOCZA'!D701","v":10}]
[null,"43",{"$f":"'ZUŻYTE WERSJA ROBOCZA'!B702","v":"SUSZARKA NA PRANIE"},{"$f":"'ZUŻYTE WERSJA ROBOCZA'!C702","v":4},{"$f":"'ZUŻYTE WERSJA ROBOCZA'!D702","v":18}]
[null,"44",{"$f":"'ZUŻYTE WERSJA ROBOCZA'!B704","v":"ZAPASKA BIAŁA"},{"$f":"'ZUŻYTE WERSJA ROBOCZA'!C704","v":5},{"$f":"'ZUŻYTE WERSJA ROBOCZA'!D704","v":3}]
[null,"45",{"$f":"'ZUŻYTE WERSJA ROBOCZA'!B705","v":"ŻELAZKO ELEKTRYCZNE"},{"$f":"'ZUŻYTE WERSJA ROBOCZA'!C705","v":2},{"$f":"'ZUŻYTE WERSJA ROBOCZA'!D705","v":10}]
[null,"46",{"$f":"'ZUŻYTE WERSJA ROBOCZA'!B706","v":"KOC KOLOROWY"},{"$f":"'ZUŻYTE WERSJA ROBOCZA'!C706","v":1},{"$f":"'ZUŻYTE WERSJA ROBOCZA'!D706","v":8}]
[null,"47",{"$f":"'ZUŻYTE WERSJA ROBOCZA'!B707","v":"FARTUCH STYLONOWY KOLOR"},{"$f":"'ZUŻYTE WERSJA ROBOCZA'!C707","v":3},{"$f":"'ZUŻYTE WERSJA ROBOCZA'!D707","v":1.5}]
[null,"48",{"$f":"'ZUŻYTE WERSJA ROBOCZA'!B708","v":"KOSZULKA SPORTOWA ADIDAS"},{"$f":"'ZUŻYTE WERSJA ROBOCZA'!C708","v":4},{"$f":"'ZUŻYTE WERSJA ROBOCZA'!D708","v":10}]
[null,"49",{"$f":"'ZUŻYTE WERSJA ROBOCZA'!B709","v":"KASK"},{"$f":"'ZUŻYTE WERSJA ROBOCZA'!C709","v":1},{"$f":"'ZUŻYTE WERSJA ROBOCZA'!D709","v":25}]
[null,"50",{"$f":"'ZUŻYTE WERSJA ROBOCZA'!B710","v":"MATERAC GIMNASTYCZNY"},{"$f":"'ZUŻYTE WERSJA ROBOCZA'!C710","v":1},{"$f":"'ZUŻYTE WERSJA ROBOCZA'!D710","v":51}]
[null,"51",{"$f":"'ZUŻYTE WERSJA ROBOCZA'!B711","v":"NÓŻ - ATRAPA"},{"$f":"'ZUŻYTE WERSJA ROBOCZA'!C711","v":2},{"$f":"'ZUŻYTE WERSJA ROBOCZA'!D711","v":7}]
[null,"52",{"$f":"'ZUŻYTE WERSJA ROBOCZA'!B712","v":"PAS OBEZWŁADNIAJĄCY BOA Z WYPOSAŻENIEM"},{"$f":"'ZUŻYTE WERSJA ROBOCZA'!C712","v":1},{"$f":"'ZUŻYTE WERSJA ROBOCZA'!D712","v":25}]
[null,"53",{"$f":"'ZUŻYTE WERSJA ROBOCZA'!B713","v":"PIŁKA DO KOSZYKÓWKI"},{"$f":"'ZUŻYTE WERSJA ROBOCZA'!C713","v":9},{"$f":"'ZUŻYTE WERSJA ROBOCZA'!D713","v":180}]
[null,"54",{"$f":"'ZUŻYTE WERSJA ROBOCZA'!B714","v":"PIŁKA DO SIATKÓWKI"},{"$f":"'ZUŻYTE WERSJA ROBOCZA'!C714","v":3},{"$f":"'ZUŻYTE WERSJA ROBOCZA'!D714","v":14}]
[null,"55",{"$f":"'ZUŻYTE WERSJA ROBOCZA'!B715","v":"PIŁKA LEKARSKA 3KG"},{"$f":"'ZUŻYTE WERSJA ROBOCZA'!C715","v":3},{"$f":"'ZUŻYTE WERSJA ROBOCZA'!D715","v":30}]
[null,"56",{"$f":"'ZUŻYTE WERSJA ROBOCZA'!B716","v":"PIŁKA LEKARSKA 5 KG"},{"$f":"'ZUŻYTE WERSJA ROBOCZA'!C716","v":12},{"$f":"'ZUŻYTE WERSJA ROBOCZA'!D716","v":15}]
[null,"57",{"$f":"'ZUŻYTE WERSJA ROBOCZA'!B717","v":"PIŁKA LEKARSKA WALL BALL 10 KG"},{"$f":"'ZUŻYTE WERSJA ROBOCZA'!C717","v":1},{"$f":"'ZUŻYTE WERSJA ROBOCZA'!D717","v":33}]
[null,"58",{"$f":"'ZUŻYTE WERSJA ROBOCZA'!B718","v":"PIŁKA NOŻNA ADIDAS"},{"$f":"'ZUŻYTE WERSJA ROBOCZA'!C718","v":1},{"$f":"'ZUŻYTE WERSJA ROBOCZA'!D718","v":30}]
[null,"59",{"$f":"'ZUŻYTE WERSJA ROBOCZA'!B719","v":"PŁOTKI LEKKO ATLETYCZNE"},{"$f":"'ZUŻYTE WERSJA ROBOCZA'!C719","v":5},{"$f":"'ZUŻYTE WERSJA ROBOCZA'!D719","v":25}]
[null,"60",{"$f":"'ZUŻYTE WERSJA ROBOCZA'!B720","v":"RAKIETKA DO TENISA STOŁOWEGO"},{"$f":"'ZUŻYTE WERSJA ROBOCZA'!C720","v":14},{"$f":"'ZUŻYTE WERSJA ROBOCZA'!D720","v":12}]
[null,"61",{"$f":"'ZUŻYTE WERSJA ROBOCZA'!B721","v":"RĘKAWICE BOKSERSKIE"},{"$f":"'ZUŻYTE WERSJA ROBOCZA'!C721","v":10},{"$f":"'ZUŻYTE WERSJA ROBOCZA'!D721","v":30}]
[null,"62",{"$f":"'ZUŻYTE WERSJA ROBOCZA'!B722","v":"STOPER  ELEKTRONICZNY"},{"$f":"'ZUŻYTE WERSJA ROBOCZA'!C722","v":12},{"$f":"'ZUŻYTE WERSJA ROBOCZA'!D722","v":25}]
[null,"63",{"$f":"'ZUŻYTE WERSJA ROBOCZA'!B723","v":"WOREK BOKSERSKI"},{"$f":"'ZUŻYTE WERSJA ROBOCZA'!C723","v":3},{"$f":"'ZUŻYTE WERSJA ROBOCZA'!D723","v":35}]
[null,"64",{"$f":"'ZUŻYTE WERSJA ROBOCZA'!B724","v":"FANTOM DO NAUKI RESUSCYTACJI"},{"$f":"'ZUŻYTE WERSJA ROBOCZA'!C724","v":1},{"$f":"'ZUŻYTE WERSJA ROBOCZA'!D724","v":1400}]
[null,"65",{"$f":"'ZUŻYTE WERSJA ROBOCZA'!B725","v":"FANTOM DO NAUKI RESUSCYTACJI"},{"$f":"'ZUŻYTE WERSJA ROBOCZA'!C725","v":1},{"$f":"'ZUŻYTE WERSJA ROBOCZA'!D725","v":2200}]
[null,"66",{"$f":"'ZUŻYTE WERSJA ROBOCZA'!B726","v":"WIESZAK NA WOREK BOKSERSKI DO MONTOWANIA NA DRABINCE GIMNASTYCZNEJ"},{"$f":"'ZUŻYTE WERSJA ROBOCZA'!C726","v":2},{"$f":"'ZUŻYTE WERSJA ROBOCZA'!D726","v":30}]
[null,"67",{"$f":"'ZUŻYTE WERSJA ROBOCZA'!B727","v":"WOREK BOKSERSKI 180X40 CM"},{"$f":"'ZUŻYTE WERSJA ROBOCZA'!C727","v":4},{"$f":"'ZUŻYTE WERSJA ROBOCZA'!D727","v":30}]
[null,"68",{"$f":"'ZUŻYTE WERSJA ROBOCZA'!B728","v":"KAMERA CYFROWA PANASONIC"},{"$f":"'ZUŻYTE WERSJA ROBOCZA'!C728","v":1},{"$f":"'ZUŻYTE WERSJA ROBOCZA'!D728","v":220}]
[null,"69",{"$f":"'ZUŻYTE WERSJA ROBOCZA'!B729","v":"MASKOTKA SZNUPEK"},{"$f":"'ZUŻYTE WERSJA ROBOCZA'!C729","v":1},{"$f":"'ZUŻYTE WERSJA ROBOCZA'!D729","v":400}]
[null,"70",{"$f":"'ZUŻYTE WERSJA ROBOCZA'!B730","v":"RADIOMAGNETOFON GRUNDING"},{"$f":"'ZUŻYTE WERSJA ROBOCZA'!C730","v":1},{"$f":"'ZUŻYTE WERSJA ROBOCZA'!D730","v":30}]
[null,"71",{"$f":"'ZUŻYTE WERSJA ROBOCZA'!B731","v":"TELEWIZOR THOMSON"},{"$f":"'ZUŻYTE WERSJA ROBOCZA'!C731","v":1},{"$f":"'ZUŻYTE WERSJA ROBOCZA'!D731","v":220}]
[null,"72",{"$f":"'ZUŻYTE WERSJA ROBOCZA'!B732","v":"TELEWIZOR ELEMIS"},{"$f":"'ZUŻYTE WERSJA ROBOCZA'!C732","v":1},{"$f":"'ZUŻYTE WERSJA ROBOCZA'!D732","v":120}]
[null,"73",{"$f":"'ZUŻYTE WERSJA ROBOCZA'!B733","v":"TELEWIZOR ELEMIS"},{"$f":"'ZUŻYTE WERSJA ROBOCZA'!C733","v":1},{"$f":"'ZUŻYTE WERSJA ROBOCZA'!D733","v":59}]
[null,"74",{"$f":"'ZUŻYTE WERSJA ROBOCZA'!B734","v":"TELEWIZOR DAEWOO"},{"$f":"'ZUŻYTE WERSJA ROBOCZA'!C734","v":1},{"$f":"'ZUŻYTE WERSJA ROBOCZA'!D734","v":250}]
[null,"75",{"$f":"'ZUŻYTE WERSJA ROBOCZA'!B735","v":"TELEWIZOR THOMSON"},{"$f":"'ZUŻYTE WERSJA ROBOCZA'!C735","v":1},{"$f":"'ZUŻYTE WERSJA ROBOCZA'!D735","v":300}]
[null,"76",{"$f":"'ZUŻYTE WERSJA ROBOCZA'!B736","v":"TELEWIZOR SAMSUNG"},{"$f":"'ZUŻYTE WERSJA ROBOCZA'!C736","v":1},{"$f":"'ZUŻYTE WERSJA ROBOCZA'!D736","v":380}]
[null,"77",{"$f":"'ZUŻYTE WERSJA ROBOCZA'!B737","v":"TELEWIZOR SONY"},{"$f":"'ZUŻYTE WERSJA ROBOCZA'!C737","v":1},{"$f":"'ZUŻYTE WERSJA ROBOCZA'!D737","v":200}]
[null,"78",{"$f":"'ZUŻYTE WERSJA ROBOCZA'!B738","v":"TELEWIZOR DAEWOO"},{"$f":"'ZUŻYTE WERSJA ROBOCZA'!C738","v":1},{"$f":"'ZUŻYTE WERSJA ROBOCZA'!D738","v":150}]
[null,"79",{"$f":"'ZUŻYTE WERSJA ROBOCZA'!B739","v":"TELEWIZOR HITACHI"},{"$f":"'ZUŻYTE WERSJA ROBOCZA'!C739","v":1},{"$f":"'ZUŻYTE WERSJA ROBOCZA'!D739","v":380}]
[null,"80",{"$f":"'ZUŻYTE WERSJA ROBOCZA'!B740","v":"PISTOLET DO KONSERWACJI"},{"$f":"'ZUŻYTE WERSJA ROBOCZA'!C740","v":2},{"$f":"'ZUŻYTE WERSJA ROBOCZA'!D740","v":12}]
[null,"81",{"$f":"'ZUŻYTE WERSJA ROBOCZA'!B741","v":"ZSZYWACZ TAPICERSKI STANLEY TR 45 LD"},{"$f":"'ZUŻYTE WERSJA ROBOCZA'!C741","v":4},{"$f":"'ZUŻYTE WERSJA ROBOCZA'!D741","v":6.5}]
[null,"82",{"$f":"'ZUŻYTE WERSJA ROBOCZA'!B742","v":"BIURKO"},{"$f":"'ZUŻYTE WERSJA ROBOCZA'!C742","v":3},{"$f":"'ZUŻYTE WERSJA ROBOCZA'!D742","v":35}]
[null,"83",{"$f":"'ZUŻYTE WERSJA ROBOCZA'!B743","v":"DYWAN"},{"$f":"'ZUŻYTE WERSJA ROBOCZA'!C743","v":3},{"$f":"'ZUŻYTE WERSJA ROBOCZA'!D743","v":10}]
[null,"84",{"$f":"'ZUŻYTE WERSJA ROBOCZA'!B744","v":"FOTEL MIĘKKI"},{"$f":"'ZUŻYTE WERSJA ROBOCZA'!C744","v":1},{"$f":"'ZUŻYTE WERSJA ROBOCZA'!D744","v":35}]
[null,"85",{"$f":"'ZUŻYTE WERSJA ROBOCZA'!B745","v":"KRZESŁO MIĘKKIE"},{"$f":"'ZUŻYTE WERSJA ROBOCZA'!C745","v":54},{"$f":"'ZUŻYTE WERSJA ROBOCZA'!D745","v":25}]
[null,"86",{"$f":"'ZUŻYTE WERSJA ROBOCZA'!B746","v":"KRZESŁO MIĘKKIE"},{"$f":"'ZUŻYTE WERSJA ROBOCZA'!C746","v":9},{"$f":"'ZUŻYTE WERSJA ROBOCZA'!D746","v":20}]
[null,"87",{"$f":"'ZUŻYTE WERSJA ROBOCZA'!B747","v":"KRZESŁO MIĘKKIE"},{"$f":"'ZUŻYTE WERSJA ROBOCZA'!C747","v":94},{"$f":"'ZUŻYTE WERSJA ROBOCZA'!D747","v":10}]
[null,"88",{"$f":"'ZUŻYTE WERSJA ROBOCZA'!B748","v":"KRZESŁO MIĘKKIE"},{"$f":"'ZUŻYTE WERSJA ROBOCZA'!C748","v":11},{"$f":"'ZUŻYTE WERSJA ROBOCZA'!D748","v":15}]
[null,"89",{"$f":"'ZUŻYTE WERSJA ROBOCZA'!B749","v":"KRZESŁO MIĘKKIE OBROTOWE"},{"$f":"'ZUŻYTE WERSJA ROBOCZA'!C749","v":6},{"$f":"'ZUŻYTE WERSJA ROBOCZA'!D749","v":35}]
[null,"90",{"$f":"'ZUŻYTE WERSJA ROBOCZA'!B750","v":"KRZESŁO OBROTOWE ERGONOMICZNE"},{"$f":"'ZUŻYTE WERSJA ROBOCZA'!C750","v":1},{"$f":"'ZUŻYTE WERSJA ROBOCZA'!D750","v":35}]
[null,"91",{"$f":"'ZUŻYTE WERSJA ROBOCZA'!B751","v":"KRZESŁO TWARDE"},{"$f":"'ZUŻYTE WERSJA ROBOCZA'!C751","v":14},{"$f":"'ZUŻYTE WERSJA ROBOCZA'!D751","v":15}]
[null,"92",{"$f":"'ZUŻYTE WERSJA ROBOCZA'!B752","v":"KRZESŁO Z PULPITEM"},{"$f":"'ZUŻYTE WERSJA ROBOCZA'!C752","v":10},{"$f":"'ZUŻYTE WERSJA ROBOCZA'!D752","v":13}]
[null,"93",{"$f":"'ZUŻYTE WERSJA ROBOCZA'!B753","v":"LADA"},{"$f":"'ZUŻYTE WERSJA ROBOCZA'!C753","v":1},{"$f":"'ZUŻYTE WERSJA ROBOCZA'!D753","v":50}]
[null,"94",{"$f":"'ZUŻYTE WERSJA ROBOCZA'!B754","v":"LAMPA OWADOBÓJCZA RAŻĄCA PR 1X40W 90M2 - POMEL"},{"$f":"'ZUŻYTE WERSJA ROBOCZA'!C754","v":1},{"$f":"'ZUŻYTE WERSJA ROBOCZA'!D754","v":35}]
[null,"95",{"$f":"'ZUŻYTE WERSJA ROBOCZA'!B755","v":"NAWILŻACZ POWIETRZA"},{"$f":"'ZUŻYTE WERSJA ROBOCZA'!C755","v":1},{"$f":"'ZUŻYTE WERSJA ROBOCZA'!D755","v":60}]
[null,"96",{"$f":"'ZUŻYTE WERSJA ROBOCZA'!B756","v":"STÓŁ BIUROWY"},{"$f":"'ZUŻYTE WERSJA ROBOCZA'!C756","v":3},{"$f":"'ZUŻYTE WERSJA ROBOCZA'!D756","v":15}]
[null,"97",{"$f":"'ZUŻYTE WERSJA ROBOCZA'!B757","v":"BIURKO"},{"$f":"'ZUŻYTE WERSJA ROBOCZA'!C757","v":1},{"$f":"'ZUŻYTE WERSJA ROBOCZA'!D757","v":15}]
[null,"98",{"$f":"'ZUŻYTE WERSJA ROBOCZA'!B758","v":"REGAŁ DREWNIANY"},{"$f":"'ZUŻYTE WERSJA ROBOCZA'!C758","v":1},{"$f":"'ZUŻYTE WERSJA ROBOCZA'!D758","v":15}]
[null,"99",{"$f":"'ZUŻYTE WERSJA ROBOCZA'!B759","v":"STOLIK"},{"$f":"'ZUŻYTE WERSJA ROBOCZA'!C759","v":5},{"$f":"'ZUŻYTE WERSJA ROBOCZA'!D759","v":15}]
[null,"100",{"$f":"'ZUŻYTE WERSJA ROBOCZA'!B760","v":"SZAFA UBRANIOWA"},{"$f":"'ZUŻYTE WERSJA ROBOCZA'!C760","v":2},{"$f":"'ZUŻYTE WERSJA ROBOCZA'!D760","v":50}]
[null,"101",{"$f":"'ZUŻYTE WERSJA ROBOCZA'!B761","v":"DOZOWNIK MYDŁA, MERIDA"},{"$f":"'ZUŻYTE WERSJA ROBOCZA'!C761","v":1},3.9]
[null,"102",{"$f":"'ZUŻYTE WERSJA ROBOCZA'!B762","v":"DOZOWNIK NA MYDŁO"},{"$f":"'ZUŻYTE WERSJA ROBOCZA'!C762","v":2},{"$f":"'ZUŻYTE WERSJA ROBOCZA'!D762","v":10}]
[null,"103",{"$f":"'ZUŻYTE WERSJA ROBOCZA'!B763","v":"FIRANY"},{"$f":"'ZUŻYTE WERSJA ROBOCZA'!C763","v":40},{"$f":"'ZUŻYTE WERSJA ROBOCZA'!D763","v":1}]
[null,"104",{"$f":"'ZUŻYTE WERSJA ROBOCZA'!B764","v":"GODŁO"},{"$f":"'ZUŻYTE WERSJA ROBOCZA'!C764","v":1},{"$f":"'ZUŻYTE WERSJA ROBOCZA'!D764","v":25}]
[null,"105",{"$f":"'ZUŻYTE WERSJA ROBOCZA'!B765","v":"KASA FISKALNA ATRAPA"},{"$f":"'ZUŻYTE WERSJA ROBOCZA'!C765","v":1},{"$f":"'ZUŻYTE WERSJA ROBOCZA'!D765","v":15}]
[null,"106",{"$f":"'ZUŻYTE WERSJA ROBOCZA'!B766","v":"KOSZ NA ŚMIECI"},{"$f":"'ZUŻYTE WERSJA ROBOCZA'!C766","v":3},{"$f":"'ZUŻYTE WERSJA ROBOCZA'!D766","v":5}]
[null,"107",{"$f":"'ZUŻYTE WERSJA ROBOCZA'!B767","v":"LADA CHŁODNICZA ATRAPA"},{"$f":"'ZUŻYTE WERSJA ROBOCZA'!C767","v":1},{"$f":"'ZUŻYTE WERSJA ROBOCZA'!D767","v":58.5}]
[null,"108",{"$f":"'ZUŻYTE WERSJA ROBOCZA'!B768","v":"ŁOPATA DO ŚNIEGU (SZER. 45 CM) - OPRAWIONA"},{"$f":"'ZUŻYTE WERSJA ROBOCZA'!C768","v":7},{"$f":"'ZUŻYTE WERSJA ROBOCZA'!D768","v":3}]
[null,"109",{"$f":"'ZUŻYTE WERSJA ROBOCZA'!B769","v":"ŁOPATA METALOWA, SZUFLA - OPRAWIONA"},{"$f":"'ZUŻYTE WERSJA ROBOCZA'!C769","v":4},{"$f":"'ZUŻYTE WERSJA ROBOCZA'!D769","v":4}]
[null,"110",{"$f":"'ZUŻYTE WERSJA ROBOCZA'!B770","v":"MIOTŁA ULICÓWKA (SZER. 80 CM) - Z TRZONKIEM DREWNIANYM"},{"$f":"'ZUŻYTE WERSJA ROBOCZA'!C770","v":4},{"$f":"'ZUŻYTE WERSJA ROBOCZA'!D770","v":3}]
[null,"111",{"$f":"'ZUŻYTE WERSJA ROBOCZA'!B771","v":"REGAŁ MAGAZYNOWY METALOWY"},{"$f":"'ZUŻYTE WERSJA ROBOCZA'!C771","v":2},{"$f":"'ZUŻYTE WERSJA ROBOCZA'!D771","v":25}]
[null,"112",{"$f":"'ZUŻYTE WERSJA ROBOCZA'!B772","v":"ROLETA"},{"$f":"'ZUŻYTE WERSJA ROBOCZA'!C772","v":2},{"$f":"'ZUŻYTE WERSJA ROBOCZA'!D772","v":12}]
[null,"113",{"$f":"'ZUŻYTE WERSJA ROBOCZA'!B773","v":"STOLIK PLUS KRZESŁA PLASTIKOWE"},{"$f":"'ZUŻYTE WERSJA ROBOCZA'!C773","v":1},{"$f":"'ZUŻYTE WERSJA ROBOCZA'!D773","v":35}]
[null,"114",{"$f":"'ZUŻYTE WERSJA ROBOCZA'!B774","v":"SZCZOTKA DO SZOROWANIA – OPRAWIONA"},{"$f":"'ZUŻYTE WERSJA ROBOCZA'!C774","v":4},{"$f":"'ZUŻYTE WERSJA ROBOCZA'!D774","v":1}]
[null,"115",{"$f":"'ZUŻYTE WERSJA ROBOCZA'!B775","v":"ŚCIĄGACZ PODŁOGOWY 400X50X100 Z TRZONKIEM ALUMINIOWYM TELESKOPOWYM"},{"$f":"'ZUŻYTE WERSJA ROBOCZA'!C775","v":4},{"$f":"'ZUŻYTE WERSJA ROBOCZA'!D775","v":5}]
[null,"116",{"$f":"'ZUŻYTE WERSJA ROBOCZA'!B776","v":"TABLICA SZKOLNA"},{"$f":"'ZUŻYTE WERSJA ROBOCZA'!C776","v":7},{"$f":"'ZUŻYTE WERSJA ROBOCZA'!D776","v":40}]
[null,"117",{"$f":"'ZUŻYTE WERSJA ROBOCZA'!B777","v":"TABLICA SZKOLNA SUCHOŚCIERALNA - BIAŁA"},{"$f":"'ZUŻYTE WERSJA ROBOCZA'!C777","v":1},{"$f":"'ZUŻYTE WERSJA ROBOCZA'!D777","v":25}]
[null,"118",{"$f":"'ZUŻYTE WERSJA ROBOCZA'!B778","v":"VILEDA ULTRAMAX - (MOP STELAŻ + WKŁAD + KIJ TELESKOPOWY)"},{"$f":"'ZUŻYTE WERSJA ROBOCZA'!C778","v":2},{"$f":"'ZUŻYTE WERSJA ROBOCZA'!D778","v":20}]
[null,"119",{"$f":"'ZUŻYTE WERSJA ROBOCZA'!B779","v":"WENTYLATOR"},{"$f":"'ZUŻYTE WERSJA ROBOCZA'!C779","v":4},{"$f":"'ZUŻYTE WERSJA ROBOCZA'!D779","v":15}]
[null,"120",{"$f":"'ZUŻYTE WERSJA ROBOCZA'!B780","v":"WENTYLATOR PODŁOGOWY (STOJĄCY)"},{"$f":"'ZUŻYTE WERSJA ROBOCZA'!C780","v":1},{"$f":"'ZUŻYTE WERSJA ROBOCZA'!D780","v":18}]
[null,"121",{"$f":"'ZUŻYTE WERSJA ROBOCZA'!B781","v":"WIESZAK"},{"$f":"'ZUŻYTE WERSJA ROBOCZA'!C781","v":2},{"$f":"'ZUŻYTE WERSJA ROBOCZA'!D781","v":15}]
[null,"122",{"$f":"'ZUŻYTE WERSJA ROBOCZA'!B782","v":"ZAMIATACZ DREWNIANY (MIOTŁA ZWYKŁA) Z KIJEM"},{"$f":"'ZUŻYTE WERSJA ROBOCZA'!C782","v":4},{"$f":"'ZUŻYTE WERSJA ROBOCZA'!D782","v":1}]
[null,"123",{"$f":"'ZUŻYTE WERSJA ROBOCZA'!B783","v":"ZAMRAŻARKA ATRAPA"},{"$f":"'ZUŻYTE WERSJA ROBOCZA'!C783","v":1},{"$f":"'ZUŻYTE WERSJA ROBOCZA'!D783","v":45}]
[null,"124",{"$f":"'ZUŻYTE WERSJA ROBOCZA'!B784","v":"ZASŁONY"},{"$f":"'ZUŻYTE WERSJA ROBOCZA'!C784","v":5},{"$f":"'ZUŻYTE WERSJA ROBOCZA'!D784","v":2.5}]
[null,"125",{"$f":"'ZUŻYTE WERSJA ROBOCZA'!B785","v":"ZMIOTKA + SZUFELKA"},{"$f":"'ZUŻYTE WERSJA ROBOCZA'!C785","v":7},{"$f":"'ZUŻYTE WERSJA ROBOCZA'!D785","v":1}]
[null,"126",{"$f":"'ZUŻYTE WERSJA ROBOCZA'!B786","v":"ŻALUZJE PIONOWE"},{"$f":"'ZUŻYTE WERSJA ROBOCZA'!C786","v":6},{"$f":"'ZUŻYTE WERSJA ROBOCZA'!D786","v":6}]
[null,"127",{"$f":"'ZUŻYTE WERSJA ROBOCZA'!B787","v":"APTECZKA"},{"$f":"'ZUŻYTE WERSJA ROBOCZA'!C787","v":6},{"$f":"'ZUŻYTE WERSJA ROBOCZA'!D787","v":10.5}]
[null,"128",{"$f":"'ZUŻYTE WERSJA ROBOCZA'!B788","v":"FOTEL OBROTOWY"},{"$f":"'ZUŻYTE WERSJA ROBOCZA'!C788","v":1},{"$f":"'ZUŻYTE WERSJA ROBOCZA'!D788","v":95}]
[null,"129",{"$f":"'ZUŻYTE WERSJA ROBOCZA'!B789","v":"DRABINA"},{"$f":"'ZUŻYTE WERSJA ROBOCZA'!C789","v":1},{"$f":"'ZUŻYTE WERSJA ROBOCZA'!D789","v":45}]
[null,"130",{"$f":"'ZUŻYTE WERSJA ROBOCZA'!B790","v":"SZAFA METALOWA"},{"$f":"'ZUŻYTE WERSJA ROBOCZA'!C790","v":4},{"$f":"'ZUŻYTE WERSJA ROBOCZA'!D790","v":180}]
[null,"131",{"$f":"'ZUŻYTE WERSJA ROBOCZA'!B791","v":"SZAFA KANCELARYJNA"},{"$f":"'ZUŻYTE WERSJA ROBOCZA'!C791","v":3},{"$f":"'ZUŻYTE WERSJA ROBOCZA'!D791","v":45}]
[null,"132",{"$f":"'ZUŻYTE WERSJA ROBOCZA'!B792","v":"REGAŁ MAGAZYNOWY"},{"$f":"'ZUŻYTE WERSJA ROBOCZA'!C792","v":3},{"$f":"'ZUŻYTE WERSJA ROBOCZA'!D792","v":25}]
[null,"133",{"$f":"'ZUŻYTE WERSJA ROBOCZA'!B793","v":"DMUCHAWA  STIHL"},{"$f":"'ZUŻYTE WERSJA ROBOCZA'!C793","v":1},{"$f":"'ZUŻYTE WERSJA ROBOCZA'!D793","v":130}]
[null,"134",{"$f":"'ZUŻYTE WERSJA ROBOCZA'!B794","v":"Atrapa OPEL ASTRA G-CC (W0LOTGF485G044603)"},{"$f":"'ZUŻYTE WERSJA ROBOCZA'!C794","v":1},{"$f":"'ZUŻYTE WERSJA ROBOCZA'!D794","v":700}]
[null,"135",{"$f":"'ZUŻYTE WERSJA ROBOCZA'!B795","v":"Atrapa FORD DAW FOCUS 1.6 (WF0AXXGCDA25762)"},{"$f":"'ZUŻYTE WERSJA ROBOCZA'!C795","v":1},{"$f":"'ZUŻYTE WERSJA ROBOCZA'!D795","v":625}]
[null,"136",{"$f":"'ZUŻYTE WERSJA ROBOCZA'!B796","v":"DRUKARKA LASEROWA LASER JET 1020"},{"$f":"'ZUŻYTE WERSJA ROBOCZA'!C796","v":1},{"$f":"'ZUŻYTE WERSJA ROBOCZA'!D796","v":12}]
[null,"137",{"$f":"'ZUŻYTE WERSJA ROBOCZA'!B797","v":"KOMPUTER PRZENOŚNY TOSHIBA L850"},{"$f":"'ZUŻYTE WERSJA ROBOCZA'!C797","v":1},{"$f":"'ZUŻYTE WERSJA ROBOCZA'!D797","v":50}]
[null,"138",{"$f":"'ZUŻYTE WERSJA ROBOCZA'!B798","v":"KOMPUTER STACJONARNY \"STACJA GRAFICZNA-1\""},{"$f":"'ZUŻYTE WERSJA ROBOCZA'!C798","v":1},{"$f":"'ZUŻYTE WERSJA ROBOCZA'!D798","v":164.5}]
[null,"139",{"$f":"'ZUŻYTE WERSJA ROBOCZA'!B799","v":"SWITCH \"PLANET\" 8P100"},{"$f":"'ZUŻYTE WERSJA ROBOCZA'!C799","v":1},{"$f":"'ZUŻYTE WERSJA ROBOCZA'!D799","v":3}]
[null,"140",{"$f":"'ZUŻYTE WERSJA ROBOCZA'!B800","v":"ZASILACZ AWARYJNY UPS 350W"},{"$f":"'ZUŻYTE WERSJA ROBOCZA'!C800","v":2},{"$f":"'ZUŻYTE WERSJA ROBOCZA'!D800","v":11}]
[null,"141",{"$f":"'ZUŻYTE WERSJA ROBOCZA'!B801","v":"ZASILACZ AWARYJNYUPS 500W"},{"$f":"'ZUŻYTE WERSJA ROBOCZA'!C801","v":1},{"$f":"'ZUŻYTE WERSJA ROBOCZA'!D801","v":16}]
[null,"142",{"$f":"'ZUŻYTE WERSJA ROBOCZA'!B802","v":"SWITCH CISCO 8P1GZ"},{"$f":"'ZUŻYTE WERSJA ROBOCZA'!C802","v":1},{"$f":"'ZUŻYTE WERSJA ROBOCZA'!D802","v":14.5}]
[null,"143",{"$f":"'ZUŻYTE WERSJA ROBOCZA'!B803","v":"SWITCH OVISLINK 24P1GZ"},{"$f":"'ZUŻYTE WERSJA ROBOCZA'!C803","v":1},{"$f":"'ZUŻYTE WERSJA ROBOCZA'!D803","v":9}]
[null,"144",{"$f":"'ZUŻYTE WERSJA ROBOCZA'!B804","v":"KONWERTER FO MMSC 1G"},{"$f":"'ZUŻYTE WERSJA ROBOCZA'!C804","v":1},{"$f":"'ZUŻYTE WERSJA ROBOCZA'!D804","v":8.5}]
[null,"145",{"$f":"'ZUŻYTE WERSJA ROBOCZA'!B805","v":"ROUTER BEZPRZEWODOWY EXTREME NETWORKS AP-4532i"},{"$f":"'ZUŻYTE WERSJA ROBOCZA'!C805","v":5},{"$f":"'ZUŻYTE WERSJA ROBOCZA'!D805","v":26}]
[null,"146",{"$f":"'ZUŻYTE WERSJA ROBOCZA'!B806","v":"RADIOTELEFON BIURKOWY MOTOROLA"},{"$f":"'ZUŻYTE WERSJA ROBOCZA'!C806","v":1},{"$f":"'ZUŻYTE WERSJA ROBOCZA'!D806","v":130}]
[null,"147",{"$f":"'ZUŻYTE WERSJA ROBOCZA'!B807","v":"ŁADOWARKA DO RADIOTELEFONU VERTEX BC-601"},{"$f":"'ZUŻYTE WERSJA ROBOCZA'!C807","v":10},{"$f":"'ZUŻYTE WERSJA ROBOCZA'!D807","v":6}]
[null,"148",{"$f":"'ZUŻYTE WERSJA ROBOCZA'!B808","v":"CEDZAK SIATKOWY"},{"$f":"'ZUŻYTE WERSJA ROBOCZA'!C808","v":5},{"$f":"'ZUŻYTE WERSJA ROBOCZA'!D808","v":3}]
[null,"149",{"$f":"'ZUŻYTE WERSJA ROBOCZA'!B809","v":"KOSZYCZEK NA PIECZYWO"},{"$f":"'ZUŻYTE WERSJA ROBOCZA'!C809","v":5},{"$f":"'ZUŻYTE WERSJA ROBOCZA'!D809","v":1}]
[null,"150",{"$f":"'ZUŻYTE WERSJA ROBOCZA'!B810","v":"ŁOPATKA KUCHENNA"},{"$f":"'ZUŻYTE WERSJA ROBOCZA'!C810","v":1},{"$f":"'ZUŻYTE WERSJA ROBOCZA'!D810","v":2}]
[null,"151",{"$f":"'ZUŻYTE WERSJA ROBOCZA'!B811","v":"ŁYŻKA CEDZAKOWA"},{"$f":"'ZUŻYTE WERSJA ROBOCZA'!C811","v":1},{"$f":"'ZUŻYTE WERSJA ROBOCZA'!D811","v":2}]
[null,"152",{"$f":"'ZUŻYTE WERSJA ROBOCZA'!B812","v":"NÓŻ DO WARZYW"},{"$f":"'ZUŻYTE WERSJA ROBOCZA'!C812","v":4},{"$f":"'ZUŻYTE WERSJA ROBOCZA'!D812","v":1.5}]
[null,"153",{"$f":"'ZUŻYTE WERSJA ROBOCZA'!B813","v":"NÓŻ KUCHENNY"},{"$f":"'ZUŻYTE WERSJA ROBOCZA'!C813","v":4},{"$f":"'ZUŻYTE WERSJA ROBOCZA'!D813","v":8.5}]
[null,"154",{"$f":"'ZUŻYTE WERSJA ROBOCZA'!B814","v":"OSTRZAŁKA"},{"$f":"'ZUŻYTE WERSJA ROBOCZA'!C814","v":1},{"$f":"'ZUŻYTE WERSJA ROBOCZA'!D814","v":14}]
[null,"155",{"$f":"'ZUŻYTE WERSJA ROBOCZA'!B815","v":"OTWIERACZ DO KONSERW"},{"$f":"'ZUŻYTE WERSJA ROBOCZA'!C815","v":1},{"$f":"'ZUŻYTE WERSJA ROBOCZA'!D815","v":23}]
[null,"156",{"$f":"'ZUŻYTE WERSJA ROBOCZA'!B816","v":"PATELNIA"},{"$f":"'ZUŻYTE WERSJA ROBOCZA'!C816","v":4},{"$f":"'ZUŻYTE WERSJA ROBOCZA'!D816","v":15}]
[null,"157",{"$f":"'ZUŻYTE WERSJA ROBOCZA'!B817","v":"POJEMNIK GN"},{"$f":"'ZUŻYTE WERSJA ROBOCZA'!C817","v":4},{"$f":"'ZUŻYTE WERSJA ROBOCZA'!D817","v":18.5}]
[null,"158",{"$f":"'ZUŻYTE WERSJA ROBOCZA'!B818","v":"POJEMNIK PLASTIKOWY 0,25L – NIEBIESKI / KWADRATOWY"},{"$f":"'ZUŻYTE WERSJA ROBOCZA'!C818","v":3},{"$f":"'ZUŻYTE WERSJA ROBOCZA'!D818","v":0.5}]
[null,"159",{"$f":"'ZUŻYTE WERSJA ROBOCZA'!B819","v":"POJEMNIK Z POKRYWKĄ I PODSTAWĄ JEZDNĄ NA ODPADY KUCHENNE"},{"$f":"'ZUŻYTE WERSJA ROBOCZA'!C819","v":4},{"$f":"'ZUŻYTE WERSJA ROBOCZA'!D819","v":58}]
[null,"160",{"$f":"'ZUŻYTE WERSJA ROBOCZA'!B820","v":"POKRYWKI DO POJEMNIKÓW GN"},{"$f":"'ZUŻYTE WERSJA ROBOCZA'!C820","v":1},{"$f":"'ZUŻYTE WERSJA ROBOCZA'!D820","v":6}]
[null,"161",{"$f":"'ZUŻYTE WERSJA ROBOCZA'!B821","v":"RÓZGA STALOWA"},{"$f":"'ZUŻYTE WERSJA ROBOCZA'!C821","v":1},{"$f":"'ZUŻYTE WERSJA ROBOCZA'!D821","v":2}]
[null,"162",{"$f":"'ZUŻYTE WERSJA ROBOCZA'!B822","v":"TACA DO ROZNOSZENIA POTRAW"},{"$f":"'ZUŻYTE WERSJA ROBOCZA'!C822","v":44},{"$f":"'ZUŻYTE WERSJA ROBOCZA'!D822","v":5}]
[null,"163",{"$f":"'ZUŻYTE WERSJA ROBOCZA'!B823","v":"TARCZA DO CL50/CL52 – KOSTKA 10X10X10 MM"},{"$f":"'ZUŻYTE WERSJA ROBOCZA'!C823","v":2},{"$f":"'ZUŻYTE WERSJA ROBOCZA'!D823","v":86}]
[null,"164",{"$f":"'ZUŻYTE WERSJA ROBOCZA'!B824","v":"TARCZA DO CL50/CL52 – PLASTRY 4 MM"},{"$f":"'ZUŻYTE WERSJA ROBOCZA'!C824","v":1},{"$f":"'ZUŻYTE WERSJA ROBOCZA'!D824","v":36}]
[null,"165",{"$f":"'ZUŻYTE WERSJA ROBOCZA'!B825","v":"TARCZA DO CL50/CL52 – WIÓRKI 5 MM"},1,"36.00"]
[null,"166",{"$f":"'ZUŻYTE WERSJA ROBOCZA'!B826","v":"WANNA PRZECEDZAKOWA"},1,"25.00"]
[null,"167",{"$f":"'ZUŻYTE WERSJA ROBOCZA'!B827","v":"CHOCHLA"},{"$f":"'ZUŻYTE WERSJA ROBOCZA'!C827","v":4},{"$f":"'ZUŻYTE WERSJA ROBOCZA'!D827","v":3}]
[null,"168",{"$f":"'ZUŻYTE WERSJA ROBOCZA'!B828","v":"STÓŁ KUCHENNY NIERDZEWNY"},{"$f":"'ZUŻYTE WERSJA ROBOCZA'!C828","v":1},{"$f":"'ZUŻYTE WERSJA ROBOCZA'!D828","v":80}]
[null,"169",{"$f":"'ZUŻYTE WERSJA ROBOCZA'!B829","v":"CZAJNIK ELEKTRYCZNY"},{"$f":"'ZUŻYTE WERSJA ROBOCZA'!C829","v":1},{"$f":"'ZUŻYTE WERSJA ROBOCZA'!D829","v":11}]
[null,"170",{"$f":"'ZUŻYTE WERSJA ROBOCZA'!B830","v":"EKSPRES DO KAWY"},{"$f":"'ZUŻYTE WERSJA ROBOCZA'!C830","v":1},{"$f":"'ZUŻYTE WERSJA ROBOCZA'!D830","v":80}]
[]
[null,"Wyk w 2 egz. WK/ŁS"]
[null,"Egz. 1 - tablica ogłoszeń Szkoły"]
[null,"Egz. 2 - tablica ogłoszeń WZ"]

{"sheet":"ZUŻYTE WERSJA ROBOCZA","index":1,"n_rows":830,"n_cols":8,"rows_kept":830,"cut":false,"hidden":true,"merged":[[25,7,27,7]]}
[null,"II","PODUSZKA DAKTYLOSKOPIJNA",4002000560032,1,179,20,4]
[null,"II","PODUSZKA DAKTYLOSKOPIJNA",4002000560033,1,179,20,4]
[null,"II","PODUSZKA DAKTYLOSKOPIJNA",4002000560019,1,179,20,4]
[null,"II","PODUSZKA DAKTYLOSKOPIJNA",4002000560020,1,179,20,4]
[null,"II","PODUSZKA DAKTYLOSKOPIJNA",4002000560022,1,179,20,4]
[null,"II","PODUSZKA DAKTYLOSKOPIJNA",4002000560030,1,179,20,4]
[null,"II","PODUSZKA DAKTYLOSKOPIJNA",4002000560031,1,179,20,4]
[null,"II","PODUSZKA DAKTYLOSKOPIJNA",4002000560014,1,179,20,4]
[null,"II","PODUSZKA DAKTYLOSKOPIJNA",4002000560015,1,179,20,4]
[null,"II","PODUSZKA DAKTYLOSKOPIJNA",4002000560016,1,179,20,4]
[null,"II","PODUSZKA DAKTYLOSKOPIJNA",4002000560017,1,179,20,4]
[null,"II","PODUSZKA DAKTYLOSKOPIJNA",4002000560018,1,179,20,4]
[null,"II","LUPA DAKTYLOSKOPIJNA",4002000440000,1,21.96,3,4]
[null,"II","ALKOMAT LION ALCOBLOW Z POKROWCEM",3002000660004,1,"1 205,40",200,4]
[null,"II","ALKOMETR SD 400 LION Z WYPOSAŻENIEM",1002000200000,1,"3 464,00",450,4]
[null,"II","ALKOMETR SD 400 LION Z WYPOSAŻENIEM",1002000200001,1,"3 464,00",450,4]
[null,"II","APARAT CYFROWY CANON EOS 400D Z OB. EF 18-55(PAM. CF-43B, STATYW W FUTERALE, FUTERAŁ)",3002000380001,1,"3 000,00",500,4]
[null,"II","APARAT FOROGRAFICZNY OLYMPUS C-300 20MM- CYFROWY",3002000360000,1,"2 459,99",350,4]
[null,"II","LAMPA BŁYSKOWA CANON 220EX",3002000390000,1,759,150,4]
[null,"III","KALKULATOR CITIZEN SDC 888",4032000480019,1,44.4,15,4]
[null,"III","KALKULATOR CITIZEN 123A",4032000420004,1,226.73,60,4]
[null,"III","KSEROKOPIARKA RICOH FT 3513",1032000170002,1,309.5,140,4]
[null,"III","KSEROKOPIARKA RICOH MP1500",3032000060000,1,"3 497,74",1000,4]
[null,"III","NISZCZARKA DOKUMENTÓW FELLOWES 480",1032000150000,1,6000,1500,4]
[null,"III","PAPIER DO FAXU 210X100",null,40,10.49,4,4]
[null,null,null,null,null,null,null,4]
[]
[null,"IV","GAŚNICA PROSZKOWA",3004000010002,1,134.06,14]
[null,"IV","GAŚNICA PROSZKOWA",3004000010005,1,134.06,14,4]
[null,"IV","GAŚNICA PROSZKOWA",3004000010006,1,134.06,14,4]
[null,"IV","GAŚNICA PROSZKOWA",3004000010007,1,134.06,14,4]
[null,"IV","GAŚNICA PROSZKOWA",3004000010008,1,134.06,14,4]
[null,"IV","GAŚNICA PROSZKOWA",3004000010009,1,134.06,14,4]
[null,"IV","GAŚNICA PROSZKOWA",3004000010010,1,134.06,14,4]
[null,"IV","GAŚNICA PROSZKOWA",3004000010011,1,134.06,14,4]
[null,"IV","GAŚNICA PROSZKOWA",3004000010013,1,134.06,14,4]
[null,"IV","GAŚNICA PROSZKOWA",3004000010014,1,134.06,14,4]
[null,"IV","GAŚNICA PROSZKOWA",3004000010015,1,134.06,14,4]
[null,"IV","GAŚNICA PROSZKOWA",3004000010016,1,134.06,14,4]
[null,"IV","GAŚNICA PROSZKOWA",3004000010017,1,134.06,14,4]
[null,"IV","GAŚNICA PROSZKOWA",3004000010018,1,134.06,14,4]
[null,"IV","GAŚNICA PROSZKOWA",3004000010019,1,134.06,14,4]
[null,"IV","GAŚNICA PROSZKOWA",3004000010020,1,134.06,14,4]
[null,"IV","GAŚNICA PROSZKOWA",3004000010021,1,134.06,14,4]
[null,"IV","GAŚNICA PROSZKOWA",3004000010025,1,134.06,14,4]
[null,"IV","GAŚNICA PROSZKOWA",3004000010026,1,134.06,14,4]
[null,"IV","GAŚNICA PROSZKOWA",3004000010029,1,134.06,14,4]
[null,"IV","GAŚNICA PROSZKOWA",3004000010035,1,134.06,14,4]
[null,"IV","GAŚNICA PROSZKOWA",3004000010036,1,134.06,14,4]
[null,"IV","GAŚNICA PROSZKOWA",3004000010037,1,134.06,14,4]
[null,"IV","GAŚNICA PROSZKOWA",3004000010052,1,134.06,14,4]
[null,"IV","GAŚNICA PROSZKOWA",3004000010053,1,134.06,14,4]
[null,"IV","GAŚNICA PROSZKOWA",3004000010068,1,134.06,14,4]
[null,"IV","GAŚNICA PROSZKOWA",3004000010071,1,134.06,14,4]
[null,"IV","GAŚNICA PROSZKOWA",3004000010072,1,134.06,14,4]
[null,"IV","GAŚNICA PROSZKOWA",3004000010073,1,134.06,14,4]
[null,"IV","GAŚNICA PROSZKOWA",3004000010074,1,134.06,14,4]
[null,"IV","GAŚNICA PROSZKOWA",3004000010076,1,134.06,14,4]
[null,"IV","GAŚNICA PROSZKOWA",3004000010078,1,134.06,14,4]
[null,"IV","GAŚNICA PROSZKOWA",3004000010079,1,134.06,14,4]
[null,"IV","GAŚNICA PROSZKOWA",3004000010081,1,134.06,14,4]
[null,"IV","GAŚNICA PROSZKOWA",3004000010090,1,134.06,14,4]
[null,"IV","GAŚNICA PROSZKOWA",3004000010091,1,134.06,14,4]
[null,"IV","GAŚNICA PROSZKOWA",3004000010092,1,134.06,14,4]
[null,"IV","GAŚNICA PROSZKOWA",3004000010093,1,134.06,14,4]
[null,"IV","GAŚNICA PROSZKOWA",3004000010094,1,134.06,14,4]
[null,"IV","GAŚNICA PROSZKOWA",3004000010096,1,134.06,14,4]
[null,"IV","GAŚNICA PROSZKOWA",3004000010097,1,134.06,14,4]
[null,"IV","GAŚNICA PROSZKOWA",3004000010098,1,134.06,14,4]
[null,"IV","GAŚNICA PROSZKOWA",3004000010102,1,134.06,14,4]
[null,"IV","GAŚNICA PROSZKOWA",3004000010103,1,134.06,14,4]
[null,"IV","GAŚNICA PROSZKOWA",3004000010105,1,134.06,14,4]
[null,"IV","GAŚNICA PROSZKOWA",3004000010106,1,134.06,14,4]
[null,"IV","GAŚNICA PROSZKOWA",3004000010107,1,134.06,14,4]
[null,"IV","GAŚNICA PROSZKOWA",3004000010111,1,134.06,14,4]
[null,"IV","GAŚNICA PROSZKOWA",3004000010112,1,134.06,14,4]
[null,"IV","GAŚNICA PROSZKOWA",3004000010113,1,134.06,14,4]
[null,"IV","GAŚNICA PROSZKOWA",3004000010114,1,134.06,14,4]
[null,"IV","GAŚNICA PROSZKOWA",3004000010144,1,121.77,13,4]
[null,"V","BLUZA KUCHARSKA",null,1,50.43,5,4]
[null,"V","BLUZA POLAROWA",null,1,81.03,10,4]
[null,"V","CZAPKA ROBOCZA",null,1,4.0199999999999996,1.5,4]
[null,"V","CZEPEK",null,2,11.32,1,4]
[null,"V","FARTUCH 3/4 KOLOR",null,1,68.39,5,4]
[null,"V","FARTUCH GUMOWY",null,1,24.6,2.5,4]
[null,"V","GUMOWCE BIAŁE",null,1,43.05,5,4]
[null,"V","KAMIZELKA OSTRZEGAWCZA",null,1,47.23,5,4]
[null,"V","KOŁDRA",null,4,36.729999999999997,8,4]
[null,"V","KOMBINEZON DWUCZĘŚCIOWY",null,1,304.67,35,4]
[null,"V","KOSZULA FLANELOWA",null,2,30.63,5,4]
[null,"V","KOSZULKA SPORTOWA CZERWONA",null,4,59.7,5,4]
[null,"V","OKULARY OCHRONNE",null,22,24.44,3,4]
[null,"V","OKULARY OCHRONNE PELTOR",null,3,28.9,3.5,4]
[null,"V","OKULARY PRZECIWSŁONECZNE",null,2,99,10,4]
[null,"V","POSZEWKA NA PODGŁÓWEK",null,28,3,0.5,4]
[null,"V","POSZEWKA NA PODUSZKĘ",null,252,8.02,1,4]
[null,"V","POSZWA  NA  KOC",null,228,26.9,5,4]
[null,"V","PRZEŚCIERADŁO",null,295,16,2.5,4]
[null,"V","RĘCZNIK BAWEŁNIANY",null,6,3.98,0.5,4]
[null,"V","RĘCZNIK FROTTE",null,55,7.88,1,4]
[null,"V","RĘCZNIK KĄPIELOWY FROTTE",null,4,21.35,1.5,4]
[null,"V","RĘKAWICE GUMOWE GOSPODARCZE",null,7,4.83,0.5,4]
[null,"V","SŁUCHAWKI PELTOR",null,6,55.01,12,4]
[null,"V","SPODNIE BIAŁE",null,5,33.090000000000003,3.5,4]
[null,"V","SPODNIE DRESOWE",null,2,35.01,3.5,4]
[null,"V","SPODNIE ROBOCZE",null,2,92.39,10,4]
[null,"V","SUSZARKA NA PRANIE",null,4,76,18,4]
[null,"V","TORNISTER BREZENTOWY",null,163,73.39,10,4]
[null,"V","ZAPASKA BIAŁA",null,5,34.44,3,4]
[null,"V","ŻELAZKO ELEKTRYCZNE",400500070002,1,52.56,10,4]
[null,"V","ŻELAZKO ELEKTRYCZNE",400500070003,1,52.56,10,4]
[null,"V","KOC KOLOROWY",null,1,97.47,8,4]
[null,"V","FARTUCH STYLONOWY KOLOR",null,3,5.49,1.5,4]
[null,"V","KOSZULKA SPORTOWA ADIDAS",null,4,50,10,4]
[null,"VII-1","KASK","SS-606-00000536-3",1,123,25,4]
[null,"VII-1","MATERAC GIMNASTYCZNY","SS-606-00000681-3",1,234,51,4]
[null,"VII-1","NÓŻ - ATRAPA","SS-606-00000694-3",2,11.71,7,4]
[null,"VII-1","PAS OBEZWŁADNIAJĄCY BOA Z WYPOSAŻENIEM","TU-308-00000020-3",1,110,25,4]
[null,"VII-1","PIŁKA DO KOSZYKÓWKI","SS-606-00000232-3",9,893.6,180,4]
[null,"VII-1","PIŁKA DO SIATKÓWKI","SS-606-00000748-3",3,48.99,14,4]
[null,"VII-1","PIŁKA LEKARSKA 3KG","SS-625-00000014-3",3,120,30,4]
[null,"VII-1","PIŁKA LEKARSKA 5 KG","SS-606-00000110-1",3,67.33,15,4]
[null,"VII-1","PIŁKA LEKARSKA 5 KG","SS-606-00000110-3",9,66.72,15,4]
[null,"VII-1","PIŁKA LEKARSKA WALL BALL 10 KG","SS-625-00000053-3",1,147.6,33,4]
[null,"VII-1","PIŁKA NOŻNA ADIDAS","SS-625-00000055-3",1,162.36000000000001,30,4]
[null,"VII-1","PŁOTKI LEKKO ATLETYCZNE","SS-606-00001193-3",5,156.47,25,4]
[null,"VII-1","RAKIETKA DO TENISA STOŁOWEGO","SS-606-00000243-3",14,34.25,12,4]
[null,"VII-1","RĘKAWICE BOKSERSKIE","SS-606-00000794-3",10,132.05000000000001,30,4]
[null,"VII-1","STOPER  ELEKTRONICZNY","SS-606-00000339-3",12,102.12,25,4]
[null,"VII-1","WOREK BOKSERSKI","SS-606-00001005-3",3,243.29,35,4]
[null,"VII-1","FANTOM DO NAUKI RESUSCYTACJI",1071000080003,1,4720,1400,4]
[null,"VII-1","FANTOM DO NAUKI RESUSCYTACJI",1071000080006,1,13500.01,2200,4]
[null,"VII-1","WIESZAK NA WOREK BOKSERSKI DO MONTOWANIA NA DRABINCE GIMNASTYCZNEJ",3071000690006,1,245,30,4]
[null,"VII-1","WIESZAK NA WOREK BOKSERSKI DO MONTOWANIA NA DRABINCE GIMNASTYCZNEJ",3071000690007,1,245,30,4]
[null,"VII-1","WOREK BOKSERSKI 180X40 CM",3071000680000,1,260.3,30,4]
[null,"VII-1","WOREK BOKSERSKI 180X40 CM",3071000680001,1,260.3,30,4]
[null,"VII-1","WOREK BOKSERSKI 180X40 CM",3071000680002,1,260.3,30,4]
[null,"VII-1","WOREK BOKSERSKI 180X40 CM",3071000680003,1,260.3,30,4]
[null,"VII 2","KAMERA CYFROWA PANASONIC",3072001600000,1,1700,220,4]
[null,"VII 2","MASKOTKA SZNUPEK",3072001520000,1,2562,400,4]
[null,"VII 2","RADIOMAGNETOFON GRUNDING",3072000840002,1,280,30,4]
[null,"VII 2","TELEWIZOR THOMSON",3072000970000,1,1460,220,4]
[null,"VII 2","TELEWIZOR ELEMIS",3072001140000,1,1000,120,4]
[null,"VII 2","TELEWIZOR ELEMIS",3072001010006,1,775,59,4]
[null,"VII-2","TELEWIZOR DAEWOO",3072001030002,1,792.85,250,4]
[null,"VII-2","TELEWIZOR THOMSON",3072000990002,1,1667.01,300,4]
[null,"VII-2","TELEWIZOR SAMSUNG",3072001240000,1,2499,380,4]
[null,"VII-2","TELEWIZOR SONY",3072001070000,1,1340.78,200,4]
[null,"VII-2","TELEWIZOR DAEWOO",3072001230001,1,1383,150,4]
[null,"VII-2","TELEWIZOR HITACHI",3072001500000,1,2200,380,4]
[null,"VIII","PISTOLET DO KONSERWACJI",4008000810000,1,112.24,12,4]
[null,"VIII","PISTOLET DO KONSERWACJI",4008000810000,1,112.24,12,4]
[null,"VIII","ZSZYWACZ TAPICERSKI STANLEY TR 45 LD",6008010080003,1,60.27,6.5,4]
[null,"VIII","ZSZYWACZ TAPICERSKI STANLEY TR 45 LD",6008010080004,1,60.27,6.5,4]
[null,"VIII","ZSZYWACZ TAPICERSKI STANLEY TR 45 LD",6008010080005,1,60.27,6.5,4]
[null,"VIII","ZSZYWACZ TAPICERSKI STANLEY TR 45 LD",6008010080006,1,60.27,6.5,4]
[null,"IX","BIURKO",3009000020215,1,342.84,35,4]
[null,"IX","BIURKO",3009000020254,1,342.84,35,4]
[null,"IX","BIURKO",3009000020448,1,342.84,35,4]
[null,"IX","DYWAN",4009000720018,1,99.75,10,4]
[null,"IX","DYWAN",4009000720021,1,99.75,10,4]
[null,"IX","DYWAN",4009000720024,1,99.75,10,4]
[null,"IX","FOTEL MIĘKKI",3009000110064,1,337.19,35,4]
[null,"IX","KRZESŁO MIĘKKIE",3009001160048,1,133.56,25,4]
[null,"IX","KRZESŁO MIĘKKIE",3009001160729,1,133.56,25,4]
[null,"IX","KRZESŁO MIĘKKIE",3009001160747,1,133.56,25,4]
[null,"IX","KRZESŁO MIĘKKIE",3009001160748,1,133.56,25,4]
[null,"IX","KRZESŁO MIĘKKIE",3009001160754,1,133.56,25,4]
[null,"IX","KRZESŁO MIĘKKIE",3009001160755,1,133.56,25,4]
[null,"IX","KRZESŁO MIĘKKIE",3009001160756,1,133.56,25,4]
[null,"IX","KRZESŁO MIĘKKIE",3009001160757,1,133.56,25,4]
[null,"IX","KRZESŁO MIĘKKIE",3009001160761,1,133.56,25,4]
[null,"IX","KRZESŁO MIĘKKIE",3009001160762,1,133.56,25,4]
[null,"IX","KRZESŁO MIĘKKIE",3009001160765,1,133.56,25,4]
[null,"IX","KRZESŁO MIĘKKIE",3009001160766,1,133.56,25,4]
[null,"IX","KRZESŁO MIĘKKIE",3009001160767,1,133.56,25,4]
[null,"IX","KRZESŁO MIĘKKIE",3009001160768,1,133.56,25,4]
[null,"IX","KRZESŁO MIĘKKIE",3009001160769,1,133.56,25,4]
[null,"IX","KRZESŁO MIĘKKIE",3009001160770,1,133.56,25,4]
[null,"IX","KRZESŁO MIĘKKIE",3009001160772,1,133.56,25,4]
[null,"IX","KRZESŁO MIĘKKIE",3009001160773,1,133.56,25,4]
[null,"IX","KRZESŁO MIĘKKIE",3009001160774,1,133.56,25,4]
[null,"IX","KRZESŁO MIĘKKIE",3009001160780,1,133.56,25,4]
[null,"IX","KRZESŁO MIĘKKIE",3009001160781,1,133.56,25,4]
[null,"IX","KRZESŁO MIĘKKIE",3009001160782,1,133.56,25,4]
[null,"IX","KRZESŁO MIĘKKIE",3009001160789,1,133.56,25,4]
[null,"IX","KRZESŁO MIĘKKIE",3009001160790,1,133.56,25,4]
[null,"IX","KRZESŁO MIĘKKIE",3009001160794,1,133.56,25,4]
[null,"IX","KRZESŁO MIĘKKIE",3009001160795,1,133.56,25,4]
[null,"IX","KRZESŁO MIĘKKIE",3009001160796,1,133.56,25,4]
[null,"IX","KRZESŁO MIĘKKIE",3009001160797,1,133.56,25,4]
[null,"IX","KRZESŁO MIĘKKIE",3009001160798,1,133.56,25,4]
[null,"IX","KRZESŁO MIĘKKIE",3009001160879,1,133.56,25,4]
[null,"IX","KRZESŁO MIĘKKIE",3009001160924,1,133.56,25,4]
[null,"IX","KRZESŁO MIĘKKIE",3009001161102,1,133.56,25,4]
[null,"IX","KRZESŁO MIĘKKIE",3009001161110,1,133.56,25,4]
[null,"IX","KRZESŁO MIĘKKIE",3009001161119,1,133.56,25,4]
[null,"IX","KRZESŁO MIĘKKIE",3009001161133,1,133.56,25,4]
[null,"IX","KRZESŁO MIĘKKIE",3009001161136,1,133.56,25,4]
[null,"IX","KRZESŁO MIĘKKIE",3009001161143,1,133.56,25,4]
[null,"IX","KRZESŁO MIĘKKIE",3009001161159,1,133.56,25,4]
[null,"IX","KRZESŁO MIĘKKIE",3009001161163,1,133.56,25,4]
[null,"IX","KRZESŁO MIĘKKIE",3009001161164,1,133.56,25,4]
[null,"IX","KRZESŁO MIĘKKIE",3009001161165,1,133.56,25,4]
[null,"IX","KRZESŁO MIĘKKIE",3009001161191,1,133.56,25,4]
[null,"IX","KRZESŁO MIĘKKIE",3009001161212,1,133.56,25,4]
[null,"IX","KRZESŁO MIĘKKIE",3009001161234,1,133.56,25,4]
[null,"IX","KRZESŁO MIĘKKIE",3009001161243,1,133.56,25,4]
[null,"IX","KRZESŁO MIĘKKIE",3009001161247,1,133.56,25,4]
[null,"IX","KRZESŁO MIĘKKIE",3009001161270,1,133.56,25,4]
[null,"IX","KRZESŁO MIĘKKIE",3009001161280,1,133.56,25,4]
[null,"IX","KRZESŁO MIĘKKIE",3009001161312,1,133.56,25,4]
[null,"IX","KRZESŁO MIĘKKIE",3009001161313,1,133.56,25,4]
[null,"IX","KRZESŁO MIĘKKIE",3009001161364,1,134.55000000000001,25,4]
[null,"IX","KRZESŁO MIĘKKIE",3009001161365,1,134.55000000000001,25,4]
[null,"IX","KRZESŁO MIĘKKIE",3009001161366,1,134.55000000000001,25,4]
[null,"IX","KRZESŁO MIĘKKIE",3009001161372,1,80,20,4]
[null,"IX","KRZESŁO MIĘKKIE",3009001161374,1,80,20,4]
[null,"IX","KRZESŁO MIĘKKIE",3009001161375,1,80,20,4]
[null,"IX","KRZESŁO MIĘKKIE",3009001161376,1,80,20,4]
[null,"IX","KRZESŁO MIĘKKIE",3009001161377,1,80,20,4]
[null,"IX","KRZESŁO MIĘKKIE",3009001161378,1,80,20,4]
[null,"IX","KRZESŁO MIĘKKIE",3009001161382,1,80,20,4]
[null,"IX","KRZESŁO MIĘKKIE",3009001161386,1,80,20,4]
[null,"IX","KRZESŁO MIĘKKIE",3009001161387,1,80,20,4]
[null,"IX","KRZESŁO MIĘKKIE",3009001161399,1,54.9,10,4]
[null,"IX","KRZESŁO MIĘKKIE",3009001161400,1,54.9,10,4]
[null,"IX","KRZESŁO MIĘKKIE",3009001161401,1,54.9,10,4]
[null,"IX","KRZESŁO MIĘKKIE",3009001161402,1,54.9,10,4]
[null,"IX","KRZESŁO MIĘKKIE",3009001161403,1,54.9,10,4]
[null,"IX","KRZESŁO MIĘKKIE",3009001161405,1,54.9,10,4]
[null,"IX","KRZESŁO MIĘKKIE",3009001161407,1,54.9,10,4]
[null,"IX","KRZESŁO MIĘKKIE",3009001161408,1,54.9,10,4]
[null,"IX","KRZESŁO MIĘKKIE",3009001161409,1,54.9,10,4]
[null,"IX","KRZESŁO MIĘKKIE",3009001161410,1,54.9,10,4]
[null,"IX","KRZESŁO MIĘKKIE",3009001161411,1,54.9,10,4]
[null,"IX","KRZESŁO MIĘKKIE",3009001161412,1,54.9,10,4]
[null,"IX","KRZESŁO MIĘKKIE",3009001161413,1,54.9,10,4]
[null,"IX","KRZESŁO MIĘKKIE",3009001161414,1,54.9,10,4]
[null,"IX","KRZESŁO MIĘKKIE",3009001161416,1,54.9,10,4]
[null,"IX","KRZESŁO MIĘKKIE",3009001161418,1,54.9,10,4]
[null,"IX","KRZESŁO MIĘKKIE",3009001161419,1,54.9,10,4]
[null,"IX","KRZESŁO MIĘKKIE",3009001161420,1,54.9,10,4]
[null,"IX","KRZESŁO MIĘKKIE",3009001161421,1,54.9,10,4]
[null,"IX","KRZESŁO MIĘKKIE",3009001161422,1,54.9,10,4]
[null,"IX","KRZESŁO MIĘKKIE",3009001161423,1,54.9,10,4]
[null,"IX","KRZESŁO MIĘKKIE",3009001161424,1,54.9,10,4]
[null,"IX","KRZESŁO MIĘKKIE",3009001161425,1,54.9,10,4]
[null,"IX","KRZESŁO MIĘKKIE",3009001161426,1,54.9,10,4]
[null,"IX","KRZESŁO MIĘKKIE",3009001161427,1,54.9,10,4]
[null,"IX","KRZESŁO MIĘKKIE",3009001161428,1,54.9,10,4]
[null,"IX","KRZESŁO MIĘKKIE",3009001161429,1,54.9,10,4]
[null,"IX","KRZESŁO MIĘKKIE",3009001161430,1,54.9,10,4]
[null,"IX","KRZESŁO MIĘKKIE",3009001161431,1,54.9,10,4]
[null,"IX","KRZESŁO MIĘKKIE",3009001161432,1,54.9,10,4]
[null,"IX","KRZESŁO MIĘKKIE",3009001161433,1,54.9,10,4]
[null,"IX","KRZESŁO MIĘKKIE",3009001161434,1,54.9,10,4]
[null,"IX","KRZESŁO MIĘKKIE",3009001161435,1,54.9,10,4]
[null,"IX","KRZESŁO MIĘKKIE",3009001161436,1,54.9,10,4]
[null,"IX","KRZESŁO MIĘKKIE",3009001161437,1,54.9,10,4]
[null,"IX","KRZESŁO MIĘKKIE",3009001161438,1,54.9,10,4]
[null,"IX","KRZESŁO MIĘKKIE",3009001161439,1,54.9,10,4]
[null,"IX","KRZESŁO MIĘKKIE",3009001161440,1,54.9,10,4]
[null,"IX","KRZESŁO MIĘKKIE",3009001161441,1,54.9,10,4]
[null,"IX","KRZESŁO MIĘKKIE",3009001161442,1,54.9,10,4]
[null,"IX","KRZESŁO MIĘKKIE",3009001161443,1,54.9,10,4]
[null,"IX","KRZESŁO MIĘKKIE",3009001161444,1,54.9,10,4]
[null,"IX","KRZESŁO MIĘKKIE",3009001161445,1,54.9,10,4]
[null,"IX","KRZESŁO MIĘKKIE",3009001161446,1,54.9,10,4]
[null,"IX","KRZESŁO MIĘKKIE",3009001161447,1,54.9,10,4]
[null,"IX","KRZESŁO MIĘKKIE",3009001161448,1,54.9,10,4]
[null,"IX","KRZESŁO MIĘKKIE",3009001161449,1,54.9,10,4]
[null,"IX","KRZESŁO MIĘKKIE",3009001161450,1,54.9,10,4]
[null,"IX","KRZESŁO MIĘKKIE",3009001161451,1,54.9,10,4]
[null,"IX","KRZESŁO MIĘKKIE",3009001161452,1,54.9,10,4]
[null,"IX","KRZESŁO MIĘKKIE",3009001161454,1,54.9,10,4]
[null,"IX","KRZESŁO MIĘKKIE",3009001161455,1,54.9,10,4]
[null,"IX","KRZESŁO MIĘKKIE",3009001161456,1,54.9,10,4]
[null,"IX","KRZESŁO MIĘKKIE",3009001161457,1,54.9,10,4]
[null,"IX","KRZESŁO MIĘKKIE",3009001161459,1,54.9,10,4]
[null,"IX","KRZESŁO MIĘKKIE",3009001161461,1,54.9,10,4]
[null,"IX","KRZESŁO MIĘKKIE",3009001161462,1,54.9,10,4]
[null,"IX","KRZESŁO MIĘKKIE",3009001161463,1,54.9,10,4]
[null,"IX","KRZESŁO MIĘKKIE",3009001161464,1,54.9,10,4]
[null,"IX","KRZESŁO MIĘKKIE",3009001161465,1,54.9,10,4]
[null,"IX","KRZESŁO MIĘKKIE",3009001161466,1,54.9,10,4]
[null,"IX","KRZESŁO MIĘKKIE",3009001161467,1,54.9,10,4]
[null,"IX","KRZESŁO MIĘKKIE",3009001161468,1,54.9,10,4]
[null,"IX","KRZESŁO MIĘKKIE",3009001161470,1,54.9,10,4]
[null,"IX","KRZESŁO MIĘKKIE",3009001161471,1,54.9,10,4]
[null,"IX","KRZESŁO MIĘKKIE",3009001161472,1,54.9,10,4]
[null,"IX","KRZESŁO MIĘKKIE",3009001161473,1,54.9,10,4]
[null,"IX","KRZESŁO MIĘKKIE",3009001161474,1,54.9,10,4]
[null,"IX","KRZESŁO MIĘKKIE",3009001161475,1,54.9,10,4]
[null,"IX","KRZESŁO MIĘKKIE",3009001161476,1,54.9,10,4]
[null,"IX","KRZESŁO MIĘKKIE",3009001161477,1,54.9,10,4]
[null,"IX","KRZESŁO MIĘKKIE",3009001161478,1,54.9,10,4]
[null,"IX","KRZESŁO MIĘKKIE",3009001161479,1,54.9,10,4]
[null,"IX","KRZESŁO MIĘKKIE",3009001161482,1,54.9,10,4]
[null,"IX","KRZESŁO MIĘKKIE",3009001161483,1,54.9,10,4]
[null,"IX","KRZESŁO MIĘKKIE",3009001161484,1,54.9,10,4]
[null,"IX","KRZESŁO MIĘKKIE",3009001161485,1,54.9,10,4]
[null,"IX","KRZESŁO MIĘKKIE",3009001161487,1,54.9,10,4]
[null,"IX","KRZESŁO MIĘKKIE",3009001161488,1,54.9,10,4]
[null,"IX","KRZESŁO MIĘKKIE",3009001161489,1,54.9,10,4]
[null,"IX","KRZESŁO MIĘKKIE",3009001161490,1,54.9,10,4]
[null,"IX","KRZESŁO MIĘKKIE",3009001161494,1,54.9,10,4]
[null,"IX","KRZESŁO MIĘKKIE",3009001161495,1,54.9,10,4]
[null,"IX","KRZESŁO MIĘKKIE",3009001161496,1,54.9,10,4]
[null,"IX","KRZESŁO MIĘKKIE",3009001161497,1,54.9,10,4]
[null,"IX","KRZESŁO MIĘKKIE",3009001161498,1,54.9,10,4]
[null,"IX","KRZESŁO MIĘKKIE",3009001161499,1,54.9,10,4]
[null,"IX","KRZESŁO MIĘKKIE",3009001161500,1,54.9,10,4]
[null,"IX","KRZESŁO MIĘKKIE",3009001161501,1,54.9,10,4]
[null,"IX","KRZESŁO MIĘKKIE",3009001161502,1,54.9,10,4]
[null,"IX","KRZESŁO MIĘKKIE",3009001161503,1,54.9,10,4]
[null,"IX","KRZESŁO MIĘKKIE",3009001161504,1,54.9,10,4]
[null,"IX","KRZESŁO MIĘKKIE",3009001161505,1,54.9,10,4]
[null,"IX","KRZESŁO MIĘKKIE",3009001161506,1,54.9,10,4]
[null,"IX","KRZESŁO MIĘKKIE",3009001161511,1,133.56,25,4]
[null,"IX","KRZESŁO MIĘKKIE",3009001161549,1,69,15,4]
[null,"IX","KRZESŁO MIĘKKIE",3009001161550,1,69,15,4]
[null,"IX","KRZESŁO MIĘKKIE",3009001161551,1,69,15,4]
[null,"IX","KRZESŁO MIĘKKIE",3009001161552,1,69,15,4]
[null,"IX","KRZESŁO MIĘKKIE",3009001161553,1,69,15,4]
[null,"IX","KRZESŁO MIĘKKIE",3009001161554,1,69,15,4]
[null,"IX","KRZESŁO MIĘKKIE",3009001161555,1,69,15,4]
[null,"IX","KRZESŁO MIĘKKIE",3009001161556,1,69,15,4]
[null,"IX","KRZESŁO MIĘKKIE",3009001161558,1,69,15,4]
[null,"IX","KRZESŁO MIĘKKIE",3009001161559,1,69,15,4]
[null,"IX","KRZESŁO MIĘKKIE",3009001161560,1,69.08,15,4]
[null,"IX","KRZESŁO MIĘKKIE OBROTOWE",3009000260043,1,243.51,35,4]
[null,"IX","KRZESŁO MIĘKKIE OBROTOWE",3009000260047,1,243.51,35,4]
[null,"IX","KRZESŁO MIĘKKIE OBROTOWE",3009000260127,1,243.51,35,4]
[null,"IX","KRZESŁO MIĘKKIE OBROTOWE",3009000260192,1,243.51,35,4]
[null,"IX","KRZESŁO MIĘKKIE OBROTOWE",3009000260362,1,243.51,35,4]
[null,"IX","KRZESŁO MIĘKKIE OBROTOWE",3009000260440,1,173.43,35,4]
[null,"IX","KRZESŁO OBROTOWE ERGONOMICZNE",3009000270018,1,282.89999999999998,35,4]
[null,"IX","KRZESŁO TWARDE",3009000290006,1,137.52000000000001,15,4]
[null,"IX","KRZESŁO TWARDE",3009000290008,1,137.52000000000001,15,4]
[null,"IX","KRZESŁO TWARDE",3009000290058,1,137.52000000000001,15,4]
[null,"IX","KRZESŁO TWARDE",3009000290060,1,137.52000000000001,15,4]
[null,"IX","KRZESŁO TWARDE",3009000290300,1,137.52000000000001,15,4]
[null,"IX","KRZESŁO TWARDE",3009000290602,1,137.52000000000001,15,4]
[null,"IX","KRZESŁO TWARDE",3009000290840,1,137.52000000000001,15,4]
[null,"IX","KRZESŁO TWARDE",3009000290841,1,137.52000000000001,15,4]
[null,"IX","KRZESŁO TWARDE",3009000291541,1,138.4,15,4]
[null,"IX","KRZESŁO TWARDE",3009000291542,1,138.4,15,4]
[null,"IX","KRZESŁO TWARDE",3009000291543,1,138.4,15,4]
[null,"IX","KRZESŁO TWARDE",3009000291545,1,138.4,15,4]
[null,"IX","KRZESŁO TWARDE",3009000291546,1,138.4,15,4]
[null,"IX","KRZESŁO TWARDE",3009000291548,1,138.4,15,4]
[null,"IX","KRZESŁO Z PULPITEM",3009000310156,1,132.41,13,4]
[null,"IX","KRZESŁO Z PULPITEM",3009000310157,1,132.41,13,4]
[null,"IX","KRZESŁO Z PULPITEM",3009000310162,1,132.41,13,4]
[null,"IX","KRZESŁO Z PULPITEM",3009000310171,1,132.41,13,4]
[null,"IX","KRZESŁO Z PULPITEM",3009000310288,1,132.41,13,4]
[null,"IX","KRZESŁO Z PULPITEM",3009000310365,1,132.41,13,4]
[null,"IX","KRZESŁO Z PULPITEM",3009000310373,1,132.41,13,4]
[null,"IX","KRZESŁO Z PULPITEM",3009000310374,1,132.41,13,4]
[null,"IX","KRZESŁO Z PULPITEM",3009000310375,1,132.41,13,4]
[null,"IX","KRZESŁO Z PULPITEM",3009000310379,1,132.41,13,4]
[null,"IX","LADA",3009001280009,1,1008.11,50,4]
[null,"IX","LAMPA OWADOBÓJCZA RAŻĄCA PR 1X40W 90M2 - POMEL",3009002000000,1,670.35,35,4]
[null,"IX","NAWILŻACZ POWIETRZA",3009000480000,1,830,60,4]
[null,"IX","STÓŁ BIUROWY",3009000700083,1,219.63,15,4]
[null,"IX","BIURKO",3009000020054,1,219.63,15,4]
[null,"IX","REGAŁ DREWNIANY",3009000530302,1,219.63,15,4]
[null,"IX","STOLIK",3009000640005,1,240.49,15,4]
[null,"IX","STOLIK",3009000640016,1,240.49,15,4]
[null,"IX","STOLIK",3009000640265,1,240.49,15,4]
[null,"IX","STÓŁ BIUROWY",3009000700004,1,255.02,15,4]
[null,"IX","SZAFA UBRANIOWA",3009000890152,1,776.78,50,4]
[null,"IX","DOZOWNIK MYDŁA, MERIDA",6009003050013,1,78.41,3.9,4]
[null,"IX","DOZOWNIK NA MYDŁO",4009000810017,1,78.41,10,4]
[null,"IX","DOZOWNIK NA MYDŁO",4009000810023,1,78.41,10,4]
[null,"IX","FIRANY",null,40,11.2,1,4]
[null,"IX","GODŁO",4009000070038,1,251.72,25,4]
[null,"IX","KASA FISKALNA ATRAPA",4009000610000,1,32.5,15,4]
[null,"IX","KOSZ NA ŚMIECI",4009000130140,1,40.549999999999997,5,4]
[null,"IX","KOSZ NA ŚMIECI",4009000130141,1,40.549999999999997,5,4]
[null,"IX","KOSZ NA ŚMIECI",4009000130143,1,40.549999999999997,5,4]
[null,"IX","LADA CHŁODNICZA ATRAPA",4009000580000,1,1170,58.5,4]
[null,"IX","ŁOPATA DO ŚNIEGU (SZER. 45 CM) - OPRAWIONA",null,7,20.83,3,4]
[null,"IX","ŁOPATA METALOWA, SZUFLA - OPRAWIONA",null,4,24.48,4,4]
[null,"IX","MIOTŁA ULICÓWKA (SZER. 80 CM) - Z TRZONKIEM DREWNIANYM",null,4,19.46,3,4]
[null,"IX","REGAŁ MAGAZYNOWY METALOWY",3009000550081,1,233.86,25,4]
[null,"IX","REGAŁ MAGAZYNOWY METALOWY",3009000550083,1,233.86,25,4]
[null,"IX","ROLETA",4009000310046,1,410.39,12,4]
[null,"IX","ROLETA",4009000310047,1,410.39,12,4]
[null,"IX","STOLIK PLUS KRZESŁA PLASTIKOWE",4009000350002,1,297.99,35,4]
[null,"IX","SZCZOTKA DO SZOROWANIA – OPRAWIONA",null,4,7.86,1,4]
[null,"IX","ŚCIĄGACZ PODŁOGOWY 400X50X100 Z TRZONKIEM ALUMINIOWYM TELESKOPOWYM",null,4,60.64,5,4]
[null,"IX","TABLICA SZKOLNA",4009000410025,1,328.14,40,4]
[null,"IX","TABLICA SZKOLNA",4009000410029,1,328.14,40,4]
[null,"IX","TABLICA SZKOLNA",4009000410033,1,328.14,40,4]
[null,"IX","TABLICA SZKOLNA",4009000410072,1,328.14,40,4]
[null,"IX","TABLICA SZKOLNA",4009000410074,1,328.14,40,4]
[null,"IX","TABLICA SZKOLNA",4009000410075,1,328.14,40,4]
[null,"IX","TABLICA SZKOLNA",4009000410077,1,328.14,40,4]
[null,"IX","TABLICA SZKOLNA SUCHOŚCIERALNA - BIAŁA",4009001190003,1,250,25,4]
[null,"IX","VILEDA ULTRAMAX - (MOP STELAŻ + WKŁAD + KIJ TELESKOPOWY)",null,2,79.900000000000006,20,4]
[null,"IX","WENTYLATOR",3009001070018,1,96.79,15,4]
[null,"IX","WENTYLATOR PODŁOGOWY (STOJĄCY)",3009001850014,1,109.47,18,4]
[null,"IX","WIESZAK",4009000460044,1,115.39,15,4]
[null,"IX","WIESZAK",4009000460231,1,115.39,15,4]
[null,"IX","ZAMIATACZ DREWNIANY (MIOTŁA ZWYKŁA) Z KIJEM",null,4,8.61,1,4]
[null,"IX","ZAMRAŻARKA ATRAPA",4009000590000,1,260,45,4]
[null,"IX","ZASŁONY",null,5,20.68,2.5,4]
[null,"IX","ZMIOTKA + SZUFELKA",null,7,5.29,1,4]
[null,"IX","ŻALUZJE PIONOWE",null,6,61.22,6,4]
[null,"IX","APTECZKA",4009000010028,1,126.44,10.5,4]
[null,"IX","APTECZKA",4009000010029,1,126.44,10.5,4]
[null,"IX","APTECZKA",4009000010030,1,126.44,10.5,4]
[null,"IX","APTECZKA",4009000010024,1,126.44,10.5,4]
[null,"IX","APTECZKA",4009000010040,1,126.44,10.5,4]
[null,"IX","APTECZKA",4009000010041,1,126.44,10.5,4]
[null,"IX","FOTEL OBROTOWY",3009001620010,1,952.02,95,4]
[null,"IX","DRABINA",4009000020008,1,222.06,45,4]
[null,"IX","STÓŁ BIUROWY",3009000700083,1,255.02,15,4]
[null,"IX","WENTYLATOR",3009001070030,1,96.79,15,4]
[null,"IX","WENTYLATOR",3009001070096,1,96.79,15,4]
[null,"IX","WENTYLATOR",3009001070077,1,96.79,15,4]
[null,"IX","STOLIK",3009000640369,1,475.8,15,4]
[null,"IX","STOLIK",3009000640370,1,241.15,15,4]
[null,"IX","SZAFA METALOWA",3009000860101,1,1493.1,180,4]
[null,"IX","SZAFA METALOWA",3009000860077,1,1493.1,180,4]
[null,"IX","SZAFA METALOWA",3009000860012,1,1493.1,180,4]
[null,"IX","SZAFA METALOWA",3009000860044,1,1493.1,180,4]
[null,"IX","SZAFA KANCELARYJNA",3009000830116,1,432.36,45,4]
[null,"IX","REGAŁ MAGAZYNOWY ",3009000550387,1,233.86,25,4]
[null,"IX","REGAŁ MAGAZYNOWY ",3009000550388,1,233.86,25,4]
[null,"IX","REGAŁ MAGAZYNOWY ",3009000550389,1,233.86,25,4]
[null,"IX","SZAFA UBRANIOWA",3009000890028,1,776.78,50,4]
[null,"IX","SZAFA KANCELARYJNA",3009000830305,1,596.99,45,4]
[null,"IX","SZAFA KANCELARYJNA",3009000830020,1,432.36,45,4]
[null,"IX","DMUCHAWA  STIHL",3009002010000,1,1298.99,130,4]
[null,"X","Atrapa OPEL ASTRA G-CC (W0LOTGF485G044603)","5001P0741/000055",1,700,700,4]
[null,"X","Atrapa FORD DAW FOCUS 1.6 (WF0AXXGCDA25762)","5001P0741/000056",1,625,625,4]
[null,"XI-1","DRUKARKA LASEROWA LASER JET 1020",2112768936,1,555.08000000000004,12,4]
[null,"XI-1","KOMPUTER PRZENOŚNY TOSHIBA L850",3112001850002,1,2484.6,50,4]
[null,"XI-1","KOMPUTER STACJONARNY \"STACJA GRAFICZNA-1\"",311200096000,1,8218.06,164.5,4]
[null,"XI-1","SWITCH \"PLANET\" 8P100",2112739819,1,98.21,3,4]
[null,"XI-1","ZASILACZ AWARYJNY UPS 350W",2112788893,1,210,11,4]
[null,"XI-1","ZASILACZ AWARYJNY UPS 350W",2112788903,1,210,11,4]
[null,"XI-1","ZASILACZ AWARYJNYUPS 500W",3112000980017,1,394.32,16,4]
[null,"XI-1","SWITCH CISCO 8P1GZ",3112001830005,1,719.55,14.5,4]
[null,"XI-I","SWITCH OVISLINK 24P1GZ",2112739882,1,437.98,9,4]
[null,"XI-I","KONWERTER FO MMSC 1G",4112000190016,1,258.3,8.5,4]
[null,"XI-1","ROUTER BEZPRZEWODOWY EXTREME NETWORKS AP-4532i",3112002380000,1,1295.92,26,4]
[null,"XI-1","ROUTER BEZPRZEWODOWY EXTREME NETWORKS AP-4532i",3112002380023,1,1295.92,26,4]
[null,"XI-1","ROUTER BEZPRZEWODOWY EXTREME NETWORKS AP-4532i",3112002380019,1,1295.92,26,4]
[null,"XI-1","ROUTER BEZPRZEWODOWY EXTREME NETWORKS AP-4532i",3112002380032,1,1295.92,26,4]
[null,"XI-1","ROUTER BEZPRZEWODOWY EXTREME NETWORKS AP-4532i",3112002380035,1,1295.92,26,4]
[null,"XI-2","RADIOTELEFON BIURKOWY MOTOROLA",1115140397,1,6480.86,130,4]
[null,"XI-2","ŁADOWARKA DO RADIOTELEFONU VERTEX BC-601",2115042753,1,294.41000000000003,6,4]
[null,"XI-2","ŁADOWARKA DO RADIOTELEFONU VERTEX BC-601",2115042765,1,294.41000000000003,6,4]
[null,"XI-2","ŁADOWARKA DO RADIOTELEFONU VERTEX BC-601",2115042752,1,294.41000000000003,6,4]
[null,"XI-2","ŁADOWARKA DO RADIOTELEFONU VERTEX BC-601",2115042751,1,294.41000000000003,6,4]
[null,"XI-2","ŁADOWARKA DO RADIOTELEFONU VERTEX BC-601",2115042742,1,294.41000000000003,6,4]
[null,"XI-2","ŁADOWARKA DO RADIOTELEFONU VERTEX BC-601",2115042735,1,294.41000000000003,6,4]
[null,"XI-2","ŁADOWARKA DO RADIOTELEFONU VERTEX BC-601",2115042726,1,294.41000000000003,6,4]
[null,"XI-2","ŁADOWARKA DO RADIOTELEFONU VERTEX BC-601",2115042766,1,294.41000000000003,6,4]
[null,"XI-2","ŁADOWARKA DO RADIOTELEFONU VERTEX BC-601",2115042754,1,294.41000000000003,6,4]
[null,"XI-2","ŁADOWARKA DO RADIOTELEFONU VERTEX BC-601",2115042756,1,294.41000000000003,6,4]
[null,"XII","CEDZAK SIATKOWY",null,5,25.89,3,4]
[null,"XII","KOSZYCZEK NA PIECZYWO",null,5,6.22,1,4]
[null,"XII","ŁOPATKA KUCHENNA",null,1,18.45,2,4]
[null,"XII","ŁYŻKA CEDZAKOWA",null,1,19.190000000000001,2,4]
[null,"XII","NÓŻ DO WARZYW",null,4,9.84,1.5,4]
[null,"XII","NÓŻ KUCHENNY",null,4,82.88,8.5,4]
[null,"XII","OSTRZAŁKA",null,1,136.22999999999999,14,4]
[null,"XII","OTWIERACZ DO KONSERW",null,1,227.92,23,4]
[null,"XII","PATELNIA",null,4,148.88,15,4]
[null,"XII","POJEMNIK GN",null,4,181.31,18.5,4]
[null,"XII","POJEMNIK PLASTIKOWY 0,25L – NIEBIESKI / KWADRATOWY",null,3,2.46,0.5,4]
[null,"XII","POJEMNIK Z POKRYWKĄ I PODSTAWĄ JEZDNĄ NA ODPADY KUCHENNE",null,4,575.54999999999995,58,4]
[null,"XII","POKRYWKI DO POJEMNIKÓW GN",null,1,58.2,6,4]
[null,"XII","RÓZGA STALOWA",null,1,18.03,2,4]
[null,"XII","TACA DO ROZNOSZENIA POTRAW",null,44,45.89,5,4]
[null,"XII","TARCZA DO CL50/CL52 – KOSTKA 10X10X10 MM",null,2,853.62,86,4]
[null,"XII","TARCZA DO CL50/CL52 – PLASTRY 4 MM",null,1,355.47,36,4]
[null,"XII","TARCZA DO CL50/CL52 – WIÓRKI 5 MM",null,1,355.47,36,4]
[null,"XII","WANNA PRZECEDZAKOWA",null,1,245.78,25,4]
[null,"XII","CHOCHLA",null,4,27.55,3,4]
[null,"XII","STÓŁ KUCHENNY NIERDZEWNY",3012000280008,1,795.91,80,4]
[null,"XII","CZAJNIK ELEKTRYCZNY",4012001120078,1,103.5,11,4]
[null,"XII","EKSPRES DO KAWY",3012000590003,1,800,80,4]
[]
[]
[]
[]
[]
[]
[]
[]
[]
[]
[]
[]
[]
[]
[]
[]
[]
[]
[]
[]
[]
[]
[]
[]
[]
[]
[]
[]
[]
[]
[]
[]
[]
[]
[]
[]
[]
[]
[]
[]
[]
[]
[]
[]
[]
[]
[]
[]
[]
[]
[]
[]
[]
[]
[]
[]
[]
[]
[]
[]
[]
[]
[]
[]
[]
[]
[]
[]
[]
[]
[]
[]
[]
[]
[]
[]
[]
[]
[]
[]
[]
[]
[]
[]
[]
[]
[]
[]
[]
[]
[]
[]
[]
[]
[]
[]
[]
[]
[]
[]
[]
[]
[]
[]
[]
[]
[]
[]
[]
[]
[]
[]
[]
[]
[]
[]
[]
[]
[]
[]
[]
[]
[]
[]
[]
[]
[]
[]
[]
[]
[]
[]
[]
[]
[]
[]
[]
[]
[]
[]
[]
[]
[]
[]
[]
[]
[]
[]
[]
[]
[]
[]
[]
[]
[]
[]
[]
[]
[]
[]
[]
[]
[]
[]
[]
[]
[]
[]
[]
[]
[]
[null,"PODUSZKA DAKTYLOSKOPIJNA",12,20]
[null,"LUPA DAKTYLOSKOPIJNA",1,3]
[null,"ALKOMAT LION ALCOBLOW Z POKROWCEM",1,200]
[null,"ALKOMETR SD 400 LION Z WYPOSAŻENIEM",2,450]
[null,"APARAT CYFROWY CANON EOS 400D Z OB. EF 18-55(PAM. CF-43B, STATYW W FUTERALE, FUTERAŁ)",1,500]
[null,"APARAT FOROGRAFICZNY OLYMPUS C-300 20MM- CYFROWY",1,350]
[null,"LAMPA BŁYSKOWA CANON 220EX",1,150]
[null,"KALKULATOR CITIZEN SDC 888",1,15]
[null,"KALKULATOR CITIZEN 123A",1,60]
[null,"KSEROKOPIARKA RICOH FT 3513",1,140]
[null,"KSEROKOPIARKA RICOH MP1500",1,1000]
[null,"NISZCZARKA DOKUMENTÓW FELLOWES 480",1,1500]
[null,"PAPIER DO FAXU 210X100",40,4]
[null,"GAŚNICA PROSZKOWA",51,14]
[null,"GAŚNICA PROSZKOWA",1,13]
[null,"BLUZA KUCHARSKA",1,5]
[null,"BLUZA POLAROWA",1,10]
[null,"CZAPKA ROBOCZA",1,1.5]
[null,"CZEPEK",2,1]
[null,"FARTUCH 3/4 KOLOR",1,5]
[null,"FARTUCH GUMOWY",1,2.5]
[null,"GUMOWCE BIAŁE",1,5]
[null,"KAMIZELKA OSTRZEGAWCZA",1,5]
[null,"KOŁDRA",4,8]
[null,"KOMBINEZON DWUCZĘŚCIOWY",1,35]
[null,"KOSZULA FLANELOWA",2,5]
[null,"KOSZULKA SPORTOWA CZERWONA",4,5]
[null,"OKULARY OCHRONNE",22,3]
[null,"OKULARY OCHRONNE PELTOR",3,3.5]
[null,"OKULARY PRZECIWSŁONECZNE",2,10]
[null,"POSZEWKA NA PODGŁÓWEK",28,0.5]
[null,"POSZEWKA NA PODUSZKĘ",252,1]
[null,"POSZWA  NA  KOC",228,5]
[null,"PRZEŚCIERADŁO",295,2.5]
[null,"RĘCZNIK BAWEŁNIANY",6,0.5]
[null,"RĘCZNIK FROTTE",55,1]
[null,"RĘCZNIK KĄPIELOWY FROTTE",4,1.5]
[null,"RĘKAWICE GUMOWE GOSPODARCZE",7,0.5]
[null,"SŁUCHAWKI PELTOR",6,12]
[null,"SPODNIE BIAŁE",5,3.5]
[null,"SPODNIE DRESOWE",2,3.5]
[null,"SPODNIE ROBOCZE",2,10]
[null,"SUSZARKA NA PRANIE",4,18]
[null,"TORNISTER BREZENTOWY",163,10]
[null,"ZAPASKA BIAŁA",5,3]
[null,"ŻELAZKO ELEKTRYCZNE",2,10]
[null,"KOC KOLOROWY",1,8]
[null,"FARTUCH STYLONOWY KOLOR",3,1.5]
[null,"KOSZULKA SPORTOWA ADIDAS",4,10]
[null,"KASK",1,25]
[null,"MATERAC GIMNASTYCZNY",1,51]
[null,"NÓŻ - ATRAPA",2,7]
[null,"PAS OBEZWŁADNIAJĄCY BOA Z WYPOSAŻENIEM",1,25]
[null,"PIŁKA DO KOSZYKÓWKI",9,180]
[null,"PIŁKA DO SIATKÓWKI",3,14]
[null,"PIŁKA LEKARSKA 3KG",3,30]
[null,"PIŁKA LEKARSKA 5 KG",12,15]
[null,"PIŁKA LEKARSKA WALL BALL 10 KG",1,33]
[null,"PIŁKA NOŻNA ADIDAS",1,30]
[null,"PŁOTKI LEKKO ATLETYCZNE",5,25]
[null,"RAKIETKA DO TENISA STOŁOWEGO",14,12]
[null,"RĘKAWICE BOKSERSKIE",10,30]
[null,"STOPER  ELEKTRONICZNY",12,25]
[null,"WOREK BOKSERSKI",3,35]
[null,"FANTOM DO NAUKI RESUSCYTACJI",1,1400]
[null,"FANTOM DO NAUKI RESUSCYTACJI",1,2200]
[null,"WIESZAK NA WOREK BOKSERSKI DO MONTOWANIA NA DRABINCE GIMNASTYCZNEJ",2,30]
[null,"WOREK BOKSERSKI 180X40 CM",4,30]
[null,"KAMERA CYFROWA PANASONIC",1,220]
[null,"MASKOTKA SZNUPEK",1,400]
[null,"RADIOMAGNETOFON GRUNDING",1,30]
[null,"TELEWIZOR THOMSON",1,220]
[null,"TELEWIZOR ELEMIS",1,120]
[null,"TELEWIZOR ELEMIS",1,59]
[null,"TELEWIZOR DAEWOO",1,250]
[null,"TELEWIZOR THOMSON",1,300]
[null,"TELEWIZOR SAMSUNG",1,380]
[null,"TELEWIZOR SONY",1,200]
[null,"TELEWIZOR DAEWOO",1,150]
[null,"TELEWIZOR HITACHI",1,380]
[null,"PISTOLET DO KONSERWACJI",2,12]
[null,"ZSZYWACZ TAPICERSKI STANLEY TR 45 LD",4,6.5]
[null,"BIURKO",3,35]
[null,"DYWAN",3,10]
[null,"FOTEL MIĘKKI",1,35]
[null,"KRZESŁO MIĘKKIE",54,25]
[null,"KRZESŁO MIĘKKIE",9,20]
[null,"KRZESŁO MIĘKKIE",94,10]
[null,"KRZESŁO MIĘKKIE",11,15]
[null,"KRZESŁO MIĘKKIE OBROTOWE",6,35]
[null,"KRZESŁO OBROTOWE ERGONOMICZNE",1,35]
[null,"KRZESŁO TWARDE",14,15]
[null,"KRZESŁO Z PULPITEM",10,13]
[null,"LADA",1,50]
[null,"LAMPA OWADOBÓJCZA RAŻĄCA PR 1X40W 90M2 - POMEL",1,35]
[null,"NAWILŻACZ POWIETRZA",1,60]
[null,"STÓŁ BIUROWY",3,15]
[null,"BIURKO",1,15]
[null,"REGAŁ DREWNIANY",1,15]
[null,"STOLIK",5,15]
[null,"SZAFA UBRANIOWA",2,50]
[null,"DOZOWNIK MYDŁA, MERIDA",1,3.92]
[null,"DOZOWNIK NA MYDŁO",2,10]
[null,"FIRANY",40,1]
[null,"GODŁO",1,25]
[null,"KASA FISKALNA ATRAPA",1,15]
[null,"KOSZ NA ŚMIECI",3,5]
[null,"LADA CHŁODNICZA ATRAPA",1,58.5]
[null,"ŁOPATA DO ŚNIEGU (SZER. 45 CM) - OPRAWIONA",7,3]
[null,"ŁOPATA METALOWA, SZUFLA - OPRAWIONA",4,4]
[null,"MIOTŁA ULICÓWKA (SZER. 80 CM) - Z TRZONKIEM DREWNIANYM",4,3]
[null,"REGAŁ MAGAZYNOWY METALOWY",2,25]
[null,"ROLETA",2,12]
[null,"STOLIK PLUS KRZESŁA PLASTIKOWE",1,35]
[null,"SZCZOTKA DO SZOROWANIA – OPRAWIONA",4,1]
[null,"ŚCIĄGACZ PODŁOGOWY 400X50X100 Z TRZONKIEM ALUMINIOWYM TELESKOPOWYM",4,5]
[null,"TABLICA SZKOLNA",7,40]
[null,"TABLICA SZKOLNA SUCHOŚCIERALNA - BIAŁA",1,25]
[null,"VILEDA ULTRAMAX - (MOP STELAŻ + WKŁAD + KIJ TELESKOPOWY)",2,20]
[null,"WENTYLATOR",4,15]
[null,"WENTYLATOR PODŁOGOWY (STOJĄCY)",1,18]
[null,"WIESZAK",2,15]
[null,"ZAMIATACZ DREWNIANY (MIOTŁA ZWYKŁA) Z KIJEM",4,1]
[null,"ZAMRAŻARKA ATRAPA",1,45]
[null,"ZASŁONY",5,2.5]
[null,"ZMIOTKA + SZUFELKA",7,1]
[null,"ŻALUZJE PIONOWE",6,6]
[null,"APTECZKA",6,10.5]
[null,"FOTEL OBROTOWY",1,95]
[null,"DRABINA",1,45]
[null,"SZAFA METALOWA",4,180]
[null,"SZAFA KANCELARYJNA",3,45]
[null,"REGAŁ MAGAZYNOWY",3,25]
[null,"DMUCHAWA  STIHL",1,130]
[null,"Atrapa OPEL ASTRA G-CC (W0LOTGF485G044603)",1,700]
[null,"Atrapa FORD DAW FOCUS 1.6 (WF0AXXGCDA25762)",1,625]
[null,"DRUKARKA LASEROWA LASER JET 1020",1,12]
[null,"KOMPUTER PRZENOŚNY TOSHIBA L850",1,50]
[null,"KOMPUTER STACJONARNY \"STACJA GRAFICZNA-1\"",1,164.5]
[null,"SWITCH \"PLANET\" 8P100",1,3]
[null,"ZASILACZ AWARYJNY UPS 350W",2,11]
[null,"ZASILACZ AWARYJNYUPS 500W",1,16]
[null,"SWITCH CISCO 8P1GZ",1,14.5]
[null,"SWITCH OVISLINK 24P1GZ",1,9]
[null,"KONWERTER FO MMSC 1G",1,8.5]
[null,"ROUTER BEZPRZEWODOWY EXTREME NETWORKS AP-4532i",5,26]
[null,"RADIOTELEFON BIURKOWY MOTOROLA",1,130]
[null,"ŁADOWARKA DO RADIOTELEFONU VERTEX BC-601",10,6]
[null,"CEDZAK SIATKOWY",5,3]
[null,"KOSZYCZEK NA PIECZYWO",5,1]
[null,"ŁOPATKA KUCHENNA",1,2]
[null,"ŁYŻKA CEDZAKOWA",1,2]
[null,"NÓŻ DO WARZYW",4,1.5]
[null,"NÓŻ KUCHENNY",4,8.5]
[null,"OSTRZAŁKA",1,14]
[null,"OTWIERACZ DO KONSERW",1,23]
[null,"PATELNIA",4,15]
[null,"POJEMNIK GN",4,18.5]
[null,"POJEMNIK PLASTIKOWY 0,25L – NIEBIESKI / KWADRATOWY",3,0.5]
[null,"POJEMNIK Z POKRYWKĄ I PODSTAWĄ JEZDNĄ NA ODPADY KUCHENNE",4,58]
[null,"POKRYWKI DO POJEMNIKÓW GN",1,6]
[null,"RÓZGA STALOWA",1,2]
[null,"TACA DO ROZNOSZENIA POTRAW",44,5]
[null,"TARCZA DO CL50/CL52 – KOSTKA 10X10X10 MM",2,86]
[null,"TARCZA DO CL50/CL52 – PLASTRY 4 MM",1,36]
[null,"TARCZA DO CL50/CL52 – WIÓRKI 5 MM","$1.00 ","$36.00 "]
[null,"WANNA PRZECEDZAKOWA","$1.00 ","$25.00 "]
[null,"CHOCHLA",4,3]
[null,"STÓŁ KUCHENNY NIERDZEWNY",1,80]
[null,"CZAJNIK ELEKTRYCZNY",1,11]
[null,"EKSPRES DO KAWY",1,80]

{"sheet":"Arkusz1","index":2,"n_rows":0,"n_cols":0,"rows_kept":0,"cut":false,"hidden":true,"merged":[]}